{"text_format":"1","workbook":"xlsx","n_sheets":3,"sheets":["Sheet1","Sheet2","Sheet3"],"not_rendered":{"charts":1,"images":1,"macros":0,"external_links":0,"defined_names":14,"comments":1,"pivot_tables":0},"unopened":[],"bounds":{"document_bytes":16777216,"sheet_cells":100000,"rows_first":2000,"rows_last":500,"rows_between":2000,"halvings":0,"cell_chars":16384,"cell_head_chars":4096},"cells_cut":0,"cells_raw":0,"read":"whole","date_system":"1900"}

{"sheet":"Sheet1","index":0,"n_rows":40,"n_cols":13,"rows_kept":40,"cut":false,"hidden":false,"merged":[]}
[null,"                  End  Behavior: "]
[null,"   A Polynomial vs. Its Power Function"]
[]
[null,"           This graphing utility produces the graph "]
[null,"          of any desired polynomial (up to 8th degree)"]
[null,"   y = c0x8+c1x7+c2x6+c3x5+c4x4+c5x3+c6x2+c7x+c8"]
[null,"where  c0, c1, c2, c3, c4, c5, c6, c7, c8 are any coefficients"]
[null,"         vs. the power function from its leading term."]
[]
["First enter the value for each of the coefficients in"]
["      "," y = c0x8+ c1x7+ c2x6+ c3x5+ c4x4+ c5x3+ c6x2+ c7x+ c8"]
[null,"(Use 0's if you don't want some of the terms)"]
[]
["c0 =",1]
["c1 =",-1]
["c2 =",4,null,null,null,null,null,{"$f":"\"The graph of y = \" &TEXT(a0,\"0.00\") &\"x^8+\"&TEXT(b0,\"0.00\")&\"x^7 + \" &TEXT(c0,\"0.00\") &\"x^6+\"&TEXT(d0,\"0.00\")&\"x^5 +\"&TEXT(e0,\"0.00\")&\"x^4 + \" &TEXT(f0,\"0.00\") &\"x^3+\"&TEXT(g0,\"0.00\")&\"x^2 +\" &TEXT(h0,\"0.00\") &\"x+\"&TEXT(i0,\"0.00\")","v":"The graph of y = 1.00x^8+-1.00x^7 + 4.00x^6+-6.00x^5 +3.00x^4 + -7.00x^3+2.00x^2 +5.00x+-4.00"}]
["c3 =",-6]
["c4 =",3]
["c5 =",-7,null,null,null,null,null,null,"   Select the the extent of the interval:"]
["c6 =",2]
["c7 =",5,null,null,null,null,null,null,null,null,null,1]
["c8 =",-4]
[null,null,null,null,null,null,null,null,"The interval is from",null,{"$f":"-L21-1","v":-2},"to",{"$f":"L21+1","v":2}]
[]
[]
[]
["Click each item below for suggestions and investigations"]
[null,null,"   Item1"]
[null,null,"   Item 2"]
[null,null,"   Item 3"]
[]
[]
[]
[]
[]
["Created by:  Sheldon P. Gordon"]
["                     Farmingdale StateCollege"]
["Development of this module was supported by the "]
["NSF's Division of Undergraduate Education  "]
["under grants DUE-0310123 and DUE-0442160."]

{"sheet":"Sheet2","index":1,"n_rows":204,"n_cols":6,"rows_kept":204,"cut":false,"hidden":false,"merged":[]}
[]
["x","y"]
[{"$f":"xMin","v":-2},{"$f":"Sheet1!$B$14*A3^8+Sheet1!$B$15*A3^7+Sheet1!$B$16*A3^6+Sheet1!$B$17*A3^5+Sheet1!$B$18*A3^4+Sheet1!$B$19*A3^3+Sheet1!$B$20*A3^2+Sheet1!$B$21*A3+Sheet1!$B$22","v":930},{"$f":"cc*A3^p","v":256},null,"DeltaX=",{"$f":"(xMax - xMin)/200","v":0.02}]
[{"$f":"A3+dx","v":-1.98},{"$f":"Sheet1!$B$14*A4^8+Sheet1!$B$15*A4^7+Sheet1!$B$16*A4^6+Sheet1!$B$17*A4^5+Sheet1!$B$18*A4^4+Sheet1!$B$19*A4^3+Sheet1!$B$20*A4^2+Sheet1!$B$21*A4+Sheet1!$B$22","v":873.52216661309808},236.22264177354751]
[-1.96,{"$f":"Sheet1!$B$14*A5^8+Sheet1!$B$15*A5^7+Sheet1!$B$16*A5^6+Sheet1!$B$17*A5^5+Sheet1!$B$18*A5^4+Sheet1!$B$19*A5^3+Sheet1!$B$20*A5^2+Sheet1!$B$21*A5+Sheet1!$B$22","v":820.1074682033011},217.79533378093706]
[-1.94,{"$f":"Sheet1!$B$14*A6^8+Sheet1!$B$15*A6^7+Sheet1!$B$16*A6^6+Sheet1!$B$17*A6^5+Sheet1!$B$18*A6^4+Sheet1!$B$19*A6^3+Sheet1!$B$20*A6^2+Sheet1!$B$21*A6+Sheet1!$B$22","v":769.60881322425871},200.63830001605018,null,"Point"]
[-1.92,{"$f":"Sheet1!$B$14*A7^8+Sheet1!$B$15*A7^7+Sheet1!$B$16*A7^6+Sheet1!$B$17*A7^5+Sheet1!$B$18*A7^4+Sheet1!$B$19*A7^3+Sheet1!$B$20*A7^2+Sheet1!$B$21*A7+Sheet1!$B$22","v":721.88521239908187},184.6757322198614,null,{"$f":"Sheet1!M26","v":0},{"$f":"Sheet1!M27","v":0}]
[-1.9,{"$f":"Sheet1!$B$14*A8^8+Sheet1!$B$15*A8^7+Sheet1!$B$16*A8^6+Sheet1!$B$17*A8^5+Sheet1!$B$18*A8^4+Sheet1!$B$19*A8^3+Sheet1!$B$20*A8^2+Sheet1!$B$21*A8+Sheet1!$B$22","v":676.80156831000011},169.83563040999999]
[-1.88,{"$f":"Sheet1!$B$14*A9^8+Sheet1!$B$15*A9^7+Sheet1!$B$16*A9^6+Sheet1!$B$17*A9^5+Sheet1!$B$18*A9^4+Sheet1!$B$19*A9^3+Sheet1!$B$20*A9^2+Sheet1!$B$21*A9+Sheet1!$B$22","v":634.22847065431074},156.04964826651687]
[-1.8599999999999999,{"$f":"Sheet1!$B$14*A10^8+Sheet1!$B$15*A10^7+Sheet1!$B$16*A10^6+Sheet1!$B$17*A10^5+Sheet1!$B$18*A10^4+Sheet1!$B$19*A10^3+Sheet1!$B$20*A10^2+Sheet1!$B$21*A10+Sheet1!$B$22","v":594.04199706056306},143.25294327425019,"lead coef=",{"$f":"IF(a0<>0,a0,IF(b0<>0,b0,IF(c0<>0,c0,IF(d0<>0,d0,IF(e0<>0,e0,IF(f0<>0,f0,IF(g0<>0,g0,IF(h0<>0,h0,i0))))))))","v":1}]
[-1.8399999999999999,{"$f":"Sheet1!$B$14*A11^8+Sheet1!$B$15*A11^7+Sheet1!$B$16*A11^6+Sheet1!$B$17*A11^5+Sheet1!$B$18*A11^4+Sheet1!$B$19*A11^3+Sheet1!$B$20*A11^2+Sheet1!$B$21*A11+Sheet1!$B$22","v":556.12351935994889},131.38403152321567,"power =",{"$f":"IF(a0<>0,8,IF(b0<>0,7,IF(c0<>0,6,IF(d0<>0,5,IF(e0<>0,4,IF(f0<>0,3,IF(g0<>0,2,IF(h0<>0,1,0))))))))","v":8}]
[-1.8199999999999998,{"$f":"Sheet1!$B$14*A12^8+Sheet1!$B$15*A12^7+Sheet1!$B$16*A12^6+Sheet1!$B$17*A12^5+Sheet1!$B$18*A12^4+Sheet1!$B$19*A12^3+Sheet1!$B$20*A12^2+Sheet1!$B$21*A12+Sheet1!$B$22","v":520.35951520891024},120.38464706947883]
[-1.7999999999999998,{"$f":"Sheet1!$B$14*A13^8+Sheet1!$B$15*A13^7+Sheet1!$B$16*A13^6+Sheet1!$B$17*A13^5+Sheet1!$B$18*A13^4+Sheet1!$B$19*A13^3+Sheet1!$B$20*A13^2+Sheet1!$B$21*A13+Sheet1!$B$22","v":486.64138495999964},110.1996057599999]
[-1.7799999999999998,{"$f":"Sheet1!$B$14*A14^8+Sheet1!$B$15*A14^7+Sheet1!$B$16*A14^6+Sheet1!$B$17*A14^5+Sheet1!$B$18*A14^4+Sheet1!$B$19*A14^3+Sheet1!$B$20*A14^2+Sheet1!$B$21*A14+Sheet1!$B$22","v":454.86527367906604},100.77667342597316]
[-1.7599999999999998,{"$f":"Sheet1!$B$14*A15^8+Sheet1!$B$15*A15^7+Sheet1!$B$16*A15^6+Sheet1!$B$17*A15^5+Sheet1!$B$18*A15^4+Sheet1!$B$19*A15^3+Sheet1!$B$20*A15^2+Sheet1!$B$21*A15+Sheet1!$B$22","v":424.93189820786904},92.066438350215506]
[-1.7399999999999998,{"$f":"Sheet1!$B$14*A16^8+Sheet1!$B$15*A16^7+Sheet1!$B$16*A16^6+Sheet1!$B$17*A16^5+Sheet1!$B$18*A16^4+Sheet1!$B$19*A16^3+Sheet1!$B$20*A16^2+Sheet1!$B$21*A16+Sheet1!$B$22","v":396.7463791722563},84.022187915190216]
[-1.7199999999999998,{"$f":"Sheet1!$B$14*A17^8+Sheet1!$B$15*A17^7+Sheet1!$B$16*A17^6+Sheet1!$B$17*A17^5+Sheet1!$B$18*A17^4+Sheet1!$B$19*A17^3+Sheet1!$B$20*A17^2+Sheet1!$B$21*A17+Sheet1!$B$22","v":370.21807783707254},76.599789339285849]
[-1.6999999999999997,{"$f":"Sheet1!$B$14*A18^8+Sheet1!$B$15*A18^7+Sheet1!$B$16*A18^6+Sheet1!$B$17*A18^5+Sheet1!$B$18*A18^4+Sheet1!$B$19*A18^3+Sheet1!$B$20*A18^2+Sheet1!$B$21*A18+Sheet1!$B$22","v":345.26043770999962},69.757574409999918]
[-1.6799999999999997,{"$f":"Sheet1!$B$14*A19^8+Sheet1!$B$15*A19^7+Sheet1!$B$16*A19^6+Sheet1!$B$17*A19^5+Sheet1!$B$18*A19^4+Sheet1!$B$19*A19^3+Sheet1!$B$20*A19^2+Sheet1!$B$21*A19+Sheet1!$B$22","v":321.79083079755998},63.456228123711824]
[-1.6599999999999997,{"$f":"Sheet1!$B$14*A20^8+Sheet1!$B$15*A20^7+Sheet1!$B$16*A20^6+Sheet1!$B$17*A20^5+Sheet1!$B$18*A20^4+Sheet1!$B$19*A20^3+Sheet1!$B$20*A20^2+Sheet1!$B$21*A20+Sheet1!$B$22","v":299.73040841754562},57.658681142759363]
[-1.6399999999999997,{"$f":"Sheet1!$B$14*A21^8+Sheet1!$B$15*A21^7+Sheet1!$B$16*A21^6+Sheet1!$B$17*A21^5+Sheet1!$B$18*A21^4+Sheet1!$B$19*A21^3+Sheet1!$B$20*A21^2+Sheet1!$B$21*A21+Sheet1!$B$22","v":279.00395647317418},52.330005981567318]
[-1.6199999999999997,{"$f":"Sheet1!$B$14*A22^8+Sheet1!$B$15*A22^7+Sheet1!$B$16*A22^6+Sheet1!$B$17*A22^5+Sheet1!$B$18*A22^4+Sheet1!$B$19*A22^3+Sheet1!$B$20*A22^2+Sheet1!$B$21*A22+Sheet1!$B$22","v":259.53975509529289},47.437316834607039]
[-1.5999999999999996,{"$f":"Sheet1!$B$14*A23^8+Sheet1!$B$15*A23^7+Sheet1!$B$16*A23^6+Sheet1!$B$17*A23^5+Sheet1!$B$18*A23^4+Sheet1!$B$19*A23^3+Sheet1!$B$20*A23^2+Sheet1!$B$21*A23+Sheet1!$B$22","v":241.26944255999967},42.949672959999909]
[-1.5799999999999996,{"$f":"Sheet1!$B$14*A24^8+Sheet1!$B$15*A24^7+Sheet1!$B$16*A24^6+Sheet1!$B$17*A24^5+Sheet1!$B$18*A24^4+Sheet1!$B$19*A24^3+Sheet1!$B$20*A24^2+Sheet1!$B$21*A24+Sheet1!$B$22","v":224.12788339006713},38.837985533607878]
[-1.5599999999999996,{"$f":"Sheet1!$B$14*A25^8+Sheet1!$B$15*A25^7+Sheet1!$B$16*A25^6+Sheet1!$B$17*A25^5+Sheet1!$B$18*A25^4+Sheet1!$B$19*A25^3+Sheet1!$B$20*A25^2+Sheet1!$B$21*A25+Sheet1!$B$22","v":208.05304054959936},35.074927889488222]
[-1.5399999999999996,{"$f":"Sheet1!$B$14*A26^8+Sheet1!$B$15*A26^7+Sheet1!$B$16*A26^6+Sheet1!$B$17*A26^5+Sheet1!$B$18*A26^4+Sheet1!$B$19*A26^3+Sheet1!$B$20*A26^2+Sheet1!$B$21*A26+Sheet1!$B$22","v":192.98585164237616},31.634849063620557]
[-1.5199999999999996,{"$f":"Sheet1!$B$14*A27^8+Sheet1!$B$15*A27^7+Sheet1!$B$16*A27^6+Sheet1!$B$17*A27^5+Sheet1!$B$18*A27^4+Sheet1!$B$19*A27^3+Sheet1!$B$20*A27^2+Sheet1!$B$21*A27+Sheet1!$B$22","v":178.87010902537639},28.493690558847316]
[-1.4999999999999996,{"$f":"Sheet1!$B$14*A28^8+Sheet1!$B$15*A28^7+Sheet1!$B$16*A28^6+Sheet1!$B$17*A28^5+Sheet1!$B$18*A28^4+Sheet1!$B$19*A28^3+Sheet1!$B$20*A28^2+Sheet1!$B$21*A28+Sheet1!$B$22","v":165.65234374999969},25.628906249999936]
[-1.4799999999999995,{"$f":"Sheet1!$B$14*A29^8+Sheet1!$B$15*A29^7+Sheet1!$B$16*A29^6+Sheet1!$B$17*A29^5+Sheet1!$B$18*A29^4+Sheet1!$B$19*A29^3+Sheet1!$B$20*A29^2+Sheet1!$B$21*A29+Sheet1!$B$22","v":153.28171324454306},23.019385349216602]
[-1.4599999999999995,{"$f":"Sheet1!$B$14*A30^8+Sheet1!$B$15*A30^7+Sheet1!$B$16*A30^6+Sheet1!$B$17*A30^5+Sheet1!$B$18*A30^4+Sheet1!$B$19*A30^3+Sheet1!$B$20*A30^2+Sheet1!$B$21*A30+Sheet1!$B$22","v":141.70989265251632},20.645378352488411]
[-1.4399999999999995,{"$f":"Sheet1!$B$14*A31^8+Sheet1!$B$15*A31^7+Sheet1!$B$16*A31^6+Sheet1!$B$17*A31^5+Sheet1!$B$18*A31^4+Sheet1!$B$19*A31^3+Sheet1!$B$20*A31^2+Sheet1!$B$21*A31+Sheet1!$B$22","v":130.89096974241605},18.488425889503588]
[-1.4199999999999995,{"$f":"Sheet1!$B$14*A32^8+Sheet1!$B$15*A32^7+Sheet1!$B$16*A32^6+Sheet1!$B$17*A32^5+Sheet1!$B$18*A32^4+Sheet1!$B$19*A32^3+Sheet1!$B$20*A32^2+Sheet1!$B$21*A32+Sheet1!$B$22","v":120.78134330560772},16.531290399891436]
[-1.3999999999999995,{"$f":"Sheet1!$B$14*A33^8+Sheet1!$B$15*A33^7+Sheet1!$B$16*A33^6+Sheet1!$B$17*A33^5+Sheet1!$B$18*A33^4+Sheet1!$B$19*A33^3+Sheet1!$B$20*A33^2+Sheet1!$B$21*A33+Sheet1!$B$22","v":111.33962495999974},14.757890559999954]
[-1.3799999999999994,{"$f":"Sheet1!$B$14*A34^8+Sheet1!$B$15*A34^7+Sheet1!$B$16*A34^6+Sheet1!$B$17*A34^5+Sheet1!$B$18*A34^4+Sheet1!$B$19*A34^3+Sheet1!$B$20*A34^2+Sheet1!$B$21*A34+Sheet1!$B$22","v":102.52654427822289},13.15323838537317]
[-1.3599999999999994,{"$f":"Sheet1!$B$14*A35^8+Sheet1!$B$15*A35^7+Sheet1!$B$16*A35^6+Sheet1!$B$17*A35^5+Sheet1!$B$18*A35^4+Sheet1!$B$19*A35^3+Sheet1!$B$20*A35^2+Sheet1!$B$21*A35+Sheet1!$B$22","v":94.30485716006315},11.703378935126386]
[-1.3399999999999994,{"$f":"Sheet1!$B$14*A36^8+Sheet1!$B$15*A36^7+Sheet1!$B$16*A36^6+Sheet1!$B$17*A36^5+Sheet1!$B$18*A36^4+Sheet1!$B$19*A36^3+Sheet1!$B$20*A36^2+Sheet1!$B$21*A36+Sheet1!$B$22","v":86.63925736992725},10.395332545449975]
[-1.3199999999999994,{"$f":"Sheet1!$B$14*A37^8+Sheet1!$B$15*A37^7+Sheet1!$B$16*A37^6+Sheet1!$B$17*A37^5+Sheet1!$B$18*A37^4+Sheet1!$B$19*A37^3+Sheet1!$B$20*A37^2+Sheet1!$B$21*A37+Sheet1!$B$22","v":79.496291161151674},9.2170395205041835]
[-1.2999999999999994,{"$f":"Sheet1!$B$14*A38^8+Sheet1!$B$15*A38^7+Sheet1!$B$16*A38^6+Sheet1!$B$17*A38^5+Sheet1!$B$18*A38^4+Sheet1!$B$19*A38^3+Sheet1!$B$20*A38^2+Sheet1!$B$21*A38+Sheet1!$B$22","v":72.844274909999797},8.1573072099999706]
[-1.2799999999999994,{"$f":"Sheet1!$B$14*A39^8+Sheet1!$B$15*A39^7+Sheet1!$B$16*A39^6+Sheet1!$B$17*A39^5+Sheet1!$B$18*A39^4+Sheet1!$B$19*A39^3+Sheet1!$B$20*A39^2+Sheet1!$B$21*A39+Sheet1!$B$22","v":66.653215683221703},7.2057594037927633]
[-1.2599999999999993,{"$f":"Sheet1!$B$14*A40^8+Sheet1!$B$15*A40^7+Sheet1!$B$16*A40^6+Sheet1!$B$17*A40^5+Sheet1!$B$18*A40^4+Sheet1!$B$19*A40^3+Sheet1!$B$20*A40^2+Sheet1!$B$21*A40+Sheet1!$B$22","v":60.89473466408613},6.3527879748485123]
[-1.2399999999999993,{"$f":"Sheet1!$B$14*A41^8+Sheet1!$B$15*A41^7+Sheet1!$B$16*A41^6+Sheet1!$B$17*A41^5+Sheet1!$B$18*A41^4+Sheet1!$B$19*A41^3+Sheet1!$B$20*A41^2+Sheet1!$B$21*A41+Sheet1!$B$22","v":55.541993362823412},5.5895067029733134]
[-1.2199999999999993,{"$f":"Sheet1!$B$14*A42^8+Sheet1!$B$15*A42^7+Sheet1!$B$16*A42^6+Sheet1!$B$17*A42^5+Sheet1!$B$18*A42^4+Sheet1!$B$19*A42^3+Sheet1!$B$20*A42^2+Sheet1!$B$21*A42+Sheet1!$B$22","v":50.569622538453117},4.9077072127303722]
[-1.1999999999999993,{"$f":"Sheet1!$B$14*A43^8+Sheet1!$B$15*A43^7+Sheet1!$B$16*A43^6+Sheet1!$B$17*A43^5+Sheet1!$B$18*A43^4+Sheet1!$B$19*A43^3+Sheet1!$B$20*A43^2+Sheet1!$B$21*A43+Sheet1!$B$22","v":45.953653759999838},4.2998169599999807]
[-1.1799999999999993,{"$f":"Sheet1!$B$14*A44^8+Sheet1!$B$15*A44^7+Sheet1!$B$16*A44^6+Sheet1!$B$17*A44^5+Sheet1!$B$18*A44^4+Sheet1!$B$19*A44^3+Sheet1!$B$20*A44^2+Sheet1!$B$21*A44+Sheet1!$B$22","v":41.671453536134791},3.7588592026705996]
[-1.1599999999999993,{"$f":"Sheet1!$B$14*A45^8+Sheet1!$B$15*A45^7+Sheet1!$B$16*A45^6+Sheet1!$B$17*A45^5+Sheet1!$B$18*A45^4+Sheet1!$B$19*A45^3+Sheet1!$B$20*A45^2+Sheet1!$B$21*A45+Sheet1!$B$22","v":37.701659943311626},3.2784148919811931]
[-1.1399999999999992,{"$f":"Sheet1!$B$14*A46^8+Sheet1!$B$15*A46^7+Sheet1!$B$16*A46^6+Sheet1!$B$17*A46^5+Sheet1!$B$18*A46^4+Sheet1!$B$19*A46^3+Sheet1!$B$20*A46^2+Sheet1!$B$21*A46+Sheet1!$B$22","v":34.02412168349813},2.852586422067211]
[-1.1199999999999992,{"$f":"Sheet1!$B$14*A47^8+Sheet1!$B$15*A47^7+Sheet1!$B$16*A47^6+Sheet1!$B$17*A47^5+Sheet1!$B$18*A47^4+Sheet1!$B$19*A47^3+Sheet1!$B$20*A47^2+Sheet1!$B$21*A47+Sheet1!$B$22","v":30.619839503636754},2.4759631762947953]
[-1.0999999999999992,{"$f":"Sheet1!$B$14*A48^8+Sheet1!$B$15*A48^7+Sheet1!$B$16*A48^6+Sheet1!$B$17*A48^5+Sheet1!$B$18*A48^4+Sheet1!$B$19*A48^3+Sheet1!$B$20*A48^2+Sheet1!$B$21*A48+Sheet1!$B$22","v":27.470909909999872},2.1435888099999869]
[-1.0799999999999992,{"$f":"Sheet1!$B$14*A49^8+Sheet1!$B$15*A49^7+Sheet1!$B$16*A49^6+Sheet1!$B$17*A49^5+Sheet1!$B$18*A49^4+Sheet1!$B$19*A49^3+Sheet1!$B$20*A49^2+Sheet1!$B$21*A49+Sheet1!$B$22","v":24.560471111637295},1.850930210281871]
[-1.0599999999999992,{"$f":"Sheet1!$B$14*A50^8+Sheet1!$B$15*A50^7+Sheet1!$B$16*A50^6+Sheet1!$B$17*A50^5+Sheet1!$B$18*A50^4+Sheet1!$B$19*A50^3+Sheet1!$B$20*A50^2+Sheet1!$B$21*A50+Sheet1!$B$22","v":21.872651128146089},1.5938480745308312]
[-1.0399999999999991,{"$f":"Sheet1!$B$14*A51^8+Sheet1!$B$15*A51^7+Sheet1!$B$16*A51^6+Sheet1!$B$17*A51^5+Sheet1!$B$18*A51^4+Sheet1!$B$19*A51^3+Sheet1!$B$20*A51^2+Sheet1!$B$21*A51+Sheet1!$B$22","v":19.39251799802501},1.3685690504052643]
[-1.0199999999999991,{"$f":"Sheet1!$B$14*A52^8+Sheet1!$B$15*A52^7+Sheet1!$B$16*A52^6+Sheet1!$B$17*A52^5+Sheet1!$B$18*A52^4+Sheet1!$B$19*A52^3+Sheet1!$B$20*A52^2+Sheet1!$B$21*A52+Sheet1!$B$22","v":17.106032024907449},1.1716593810022573]
[-0.99999999999999911,{"$f":"Sheet1!$B$14*A53^8+Sheet1!$B$15*A53^7+Sheet1!$B$16*A53^6+Sheet1!$B$17*A53^5+Sheet1!$B$18*A53^4+Sheet1!$B$19*A53^3+Sheet1!$B$20*A53^2+Sheet1!$B$21*A53+Sheet1!$B$22","v":14.999999999999911},0.99999999999999289]
[-0.97999999999999909,{"$f":"Sheet1!$B$14*A54^8+Sheet1!$B$15*A54^7+Sheet1!$B$16*A54^6+Sheet1!$B$17*A54^5+Sheet1!$B$18*A54^4+Sheet1!$B$19*A54^3+Sheet1!$B$20*A54^2+Sheet1!$B$21*A54+Sheet1!$B$22","v":13.062031340084424},0.85076302258177949]
[-0.95999999999999908,{"$f":"Sheet1!$B$14*A55^8+Sheet1!$B$15*A55^7+Sheet1!$B$16*A55^6+Sheet1!$B$17*A55^5+Sheet1!$B$18*A55^4+Sheet1!$B$19*A55^3+Sheet1!$B$20*A55^2+Sheet1!$B$21*A55+Sheet1!$B$22","v":11.280496081475912},0.72138957898382794]
[-0.93999999999999906,{"$f":"Sheet1!$B$14*A56^8+Sheet1!$B$15*A56^7+Sheet1!$B$16*A56^6+Sheet1!$B$17*A56^5+Sheet1!$B$18*A56^4+Sheet1!$B$19*A56^3+Sheet1!$B$20*A56^2+Sheet1!$B$21*A56+Sheet1!$B$22","v":9.6444846713576489},0.60956893854107685]
[-0.91999999999999904,{"$f":"Sheet1!$B$14*A57^8+Sheet1!$B$15*A57^7+Sheet1!$B$16*A57^6+Sheet1!$B$17*A57^5+Sheet1!$B$18*A57^4+Sheet1!$B$19*A57^3+Sheet1!$B$20*A57^2+Sheet1!$B$21*A57+Sheet1!$B$22","v":8.1437694989499754},0.51321887313755743]
[-0.89999999999999902,{"$f":"Sheet1!$B$14*A58^8+Sheet1!$B$15*A58^7+Sheet1!$B$16*A58^6+Sheet1!$B$17*A58^5+Sheet1!$B$18*A58^4+Sheet1!$B$19*A58^3+Sheet1!$B$20*A58^2+Sheet1!$B$21*A58+Sheet1!$B$22","v":6.7687681099999377},0.43046720999999638]
[-0.87999999999999901,{"$f":"Sheet1!$B$14*A59^8+Sheet1!$B$15*A59^7+Sheet1!$B$16*A59^6+Sheet1!$B$17*A59^5+Sheet1!$B$18*A59^4+Sheet1!$B$19*A59^3+Sheet1!$B$20*A59^2+Sheet1!$B$21*A59+Sheet1!$B$22","v":5.5105080491113885},0.35963452480552627]
[-0.85999999999999899,{"$f":"Sheet1!$B$14*A60^8+Sheet1!$B$15*A60^7+Sheet1!$B$16*A60^6+Sheet1!$B$17*A60^5+Sheet1!$B$18*A60^4+Sheet1!$B$19*A60^3+Sheet1!$B$20*A60^2+Sheet1!$B$21*A60+Sheet1!$B$22","v":4.3605932754674903},0.29921792710658279]
[-0.83999999999999897,{"$f":"Sheet1!$B$14*A61^8+Sheet1!$B$15*A61^7+Sheet1!$B$16*A61^6+Sheet1!$B$17*A61^5+Sheet1!$B$18*A61^4+Sheet1!$B$19*A61^3+Sheet1!$B$20*A61^2+Sheet1!$B$21*A61+Sheet1!$B$22","v":3.311172098529636},0.24787589110824709]
[-0.81999999999999895,{"$f":"Sheet1!$B$14*A62^8+Sheet1!$B$15*A62^7+Sheet1!$B$16*A62^6+Sheet1!$B$17*A62^5+Sheet1!$B$18*A62^4+Sheet1!$B$19*A62^3+Sheet1!$B$20*A62^2+Sheet1!$B$21*A62+Sheet1!$B$22","v":2.3549065813291321},0.20441408586549559]
[-0.79999999999999893,{"$f":"Sheet1!$B$14*A63^8+Sheet1!$B$15*A63^7+Sheet1!$B$16*A63^6+Sheet1!$B$17*A63^5+Sheet1!$B$18*A63^4+Sheet1!$B$19*A63^3+Sheet1!$B$20*A63^2+Sheet1!$B$21*A63+Sheet1!$B$22","v":1.4849433599999582},0.16777215999999828]
[-0.77999999999999892,{"$f":"Sheet1!$B$14*A64^8+Sheet1!$B$15*A64^7+Sheet1!$B$16*A64^6+Sheet1!$B$17*A64^5+Sheet1!$B$18*A64^4+Sheet1!$B$19*A64^3+Sheet1!$B$20*A64^2+Sheet1!$B$21*A64+Sheet1!$B$22","v":0.69488582923339237},0.13701143706831206]
[-0.7599999999999989,{"$f":"Sheet1!$B$14*A65^8+Sheet1!$B$15*A65^7+Sheet1!$B$16*A65^6+Sheet1!$B$17*A65^5+Sheet1!$B$18*A65^4+Sheet1!$B$19*A65^3+Sheet1!$B$20*A65^2+Sheet1!$B$21*A65+Sheet1!$B$22","v":-2.1232355632778699E-2},0.11130347874549633]
[-0.73999999999999888,{"$f":"Sheet1!$B$14*A66^8+Sheet1!$B$15*A66^7+Sheet1!$B$16*A66^6+Sheet1!$B$17*A66^5+Sheet1!$B$18*A66^4+Sheet1!$B$19*A66^3+Sheet1!$B$20*A66^2+Sheet1!$B$21*A66+Sheet1!$B$22","v":-0.66897250814541787},8.9919474020376491E-2]
[-0.71999999999999886,{"$f":"Sheet1!$B$14*A67^8+Sheet1!$B$15*A67^7+Sheet1!$B$16*A67^6+Sheet1!$B$17*A67^5+Sheet1!$B$18*A67^4+Sheet1!$B$19*A67^3+Sheet1!$B$20*A67^2+Sheet1!$B$21*A67+Sheet1!$B$22","v":-1.2535149191102777},{"$f":"cc*A67^p","v":7.2220413630872712E-2}]
[{"$f":"A67+dx","v":-0.69999999999999885},{"$f":"Sheet1!$B$14*A68^8+Sheet1!$B$15*A68^7+Sheet1!$B$16*A68^6+Sheet1!$B$17*A68^5+Sheet1!$B$18*A68^4+Sheet1!$B$19*A68^3+Sheet1!$B$20*A68^2+Sheet1!$B$21*A68+Sheet1!$B$22","v":-1.7796816900000283},5.7648009999999243E-2]
[-0.67999999999999883,{"$f":"Sheet1!$B$14*A69^8+Sheet1!$B$15*A69^7+Sheet1!$B$16*A69^6+Sheet1!$B$17*A69^5+Sheet1!$B$18*A69^4+Sheet1!$B$19*A69^3+Sheet1!$B$20*A69^2+Sheet1!$B$21*A69+Sheet1!$B$22","v":-2.2519584365543679},4.571632396533698E-2]
[-0.65999999999999881,{"$f":"Sheet1!$B$14*A70^8+Sheet1!$B$15*A70^7+Sheet1!$B$16*A70^6+Sheet1!$B$17*A70^5+Sheet1!$B$18*A70^4+Sheet1!$B$19*A70^3+Sheet1!$B$20*A70^2+Sheet1!$B$21*A70+Sheet1!$B$22","v":-2.6745149066984939},3.6004060626969085E-2]
[-0.63999999999999879,{"$f":"Sheet1!$B$14*A71^8+Sheet1!$B$15*A71^7+Sheet1!$B$16*A71^6+Sheet1!$B$17*A71^5+Sheet1!$B$18*A71^4+Sheet1!$B$19*A71^3+Sheet1!$B$20*A71^2+Sheet1!$B$21*A71+Sheet1!$B$22","v":-3.0512245558739153},2.8147497671065183E-2]
[-0.61999999999999877,{"$f":"Sheet1!$B$14*A72^8+Sheet1!$B$15*A72^7+Sheet1!$B$16*A72^6+Sheet1!$B$17*A72^5+Sheet1!$B$18*A72^4+Sheet1!$B$19*A72^3+Sheet1!$B$20*A72^2+Sheet1!$B$21*A72+Sheet1!$B$22","v":-3.3856831218434498},2.1834010558489249E-2]
[-0.59999999999999876,{"$f":"Sheet1!$B$14*A73^8+Sheet1!$B$15*A73^7+Sheet1!$B$16*A73^6+Sheet1!$B$17*A73^5+Sheet1!$B$18*A73^4+Sheet1!$B$19*A73^3+Sheet1!$B$20*A73^2+Sheet1!$B$21*A73+Sheet1!$B$22","v":-3.6812262400000177},1.6796159999999716E-2]
[-0.57999999999999874,{"$f":"Sheet1!$B$14*A74^8+Sheet1!$B$15*A74^7+Sheet1!$B$16*A74^6+Sheet1!$B$17*A74^5+Sheet1!$B$18*A74^4+Sheet1!$B$19*A74^3+Sheet1!$B$20*A74^2+Sheet1!$B$21*A74+Sheet1!$B$22","v":-3.940946139176694},1.2806308171801376E-2]
[-0.55999999999999872,{"$f":"Sheet1!$B$14*A75^8+Sheet1!$B$15*A75^7+Sheet1!$B$16*A75^6+Sheet1!$B$17*A75^5+Sheet1!$B$18*A75^4+Sheet1!$B$19*A75^3+Sheet1!$B$20*A75^2+Sheet1!$B$21*A75+Sheet1!$B$22","v":-4.1677074569232531},9.6717311574014211E-3]
[-0.5399999999999987,{"$f":"Sheet1!$B$14*A76^8+Sheet1!$B$15*A76^7+Sheet1!$B$16*A76^6+Sheet1!$B$17*A76^5+Sheet1!$B$18*A76^4+Sheet1!$B$19*A76^3+Sheet1!$B$20*A76^2+Sheet1!$B$21*A76+Sheet1!$B$22","v":-4.3641622121822587},7.2301961339134597E-3]
[-0.51999999999999869,{"$f":"Sheet1!$B$14*A77^8+Sheet1!$B$15*A77^7+Sheet1!$B$16*A77^6+Sheet1!$B$17*A77^5+Sheet1!$B$18*A77^4+Sheet1!$B$19*A77^3+Sheet1!$B$20*A77^2+Sheet1!$B$21*A77+Sheet1!$B$22","v":-4.5327639722655846},5.3459728531454927E-3]
[-0.49999999999999867,{"$f":"Sheet1!$B$14*A78^8+Sheet1!$B$15*A78^7+Sheet1!$B$16*A78^6+Sheet1!$B$17*A78^5+Sheet1!$B$18*A78^4+Sheet1!$B$19*A78^3+Sheet1!$B$20*A78^2+Sheet1!$B$21*A78+Sheet1!$B$22","v":-4.6757812500000089},3.9062499999999167E-3]
[-0.47999999999999865,{"$f":"Sheet1!$B$14*A79^8+Sheet1!$B$15*A79^7+Sheet1!$B$16*A79^6+Sheet1!$B$17*A79^5+Sheet1!$B$18*A79^4+Sheet1!$B$19*A79^3+Sheet1!$B$20*A79^2+Sheet1!$B$21*A79+Sheet1!$B$22","v":-4.7953101658783819},2.8179280429055371E-3]
[-0.45999999999999863,{"$f":"Sheet1!$B$14*A80^8+Sheet1!$B$15*A80^7+Sheet1!$B$16*A80^6+Sheet1!$B$17*A80^5+Sheet1!$B$18*A80^4+Sheet1!$B$19*A80^3+Sheet1!$B$20*A80^2+Sheet1!$B$21*A80+Sheet1!$B$22","v":-4.8932864090206518},2.0047612231935521E-3]
[-0.43999999999999861,{"$f":"Sheet1!$B$14*A81^8+Sheet1!$B$15*A81^7+Sheet1!$B$16*A81^6+Sheet1!$B$17*A81^5+Sheet1!$B$18*A81^4+Sheet1!$B$19*A81^3+Sheet1!$B$20*A81^2+Sheet1!$B$21*A81+Sheet1!$B$22","v":-4.971496529716843},1.4048223625215642E-3]
[-0.4199999999999986,{"$f":"Sheet1!$B$14*A82^8+Sheet1!$B$15*A82^7+Sheet1!$B$16*A82^6+Sheet1!$B$17*A82^5+Sheet1!$B$18*A82^4+Sheet1!$B$19*A82^3+Sheet1!$B$20*A82^2+Sheet1!$B$21*A82+Sheet1!$B$22","v":-5.0315885952918826},9.6826519964157383E-4]
[-0.39999999999999858,{"$f":"Sheet1!$B$14*A83^8+Sheet1!$B$15*A83^7+Sheet1!$B$16*A83^6+Sheet1!$B$17*A83^5+Sheet1!$B$18*A83^4+Sheet1!$B$19*A83^3+Sheet1!$B$20*A83^2+Sheet1!$B$21*A83+Sheet1!$B$22","v":-5.0750822400000022},6.5535999999998137E-4]
[-0.37999999999999856,{"$f":"Sheet1!$B$14*A84^8+Sheet1!$B$15*A84^7+Sheet1!$B$16*A84^6+Sheet1!$B$17*A84^5+Sheet1!$B$18*A84^4+Sheet1!$B$19*A84^3+Sheet1!$B$20*A84^2+Sheet1!$B$21*A84+Sheet1!$B$22","v":-5.1033781386242314},4.3477921384958696E-4]
[-0.35999999999999854,{"$f":"Sheet1!$B$14*A85^8+Sheet1!$B$15*A85^7+Sheet1!$B$16*A85^6+Sheet1!$B$17*A85^5+Sheet1!$B$18*A85^4+Sheet1!$B$19*A85^3+Sheet1!$B$20*A85^2+Sheet1!$B$21*A85+Sheet1!$B$22","v":-5.1177669324242956},2.8211099074559073E-4]
[-0.33999999999999853,{"$f":"Sheet1!$B$14*A86^8+Sheet1!$B$15*A86^7+Sheet1!$B$16*A86^6+Sheet1!$B$17*A86^5+Sheet1!$B$18*A86^4+Sheet1!$B$19*A86^3+Sheet1!$B$20*A86^2+Sheet1!$B$21*A86+Sheet1!$B$22","v":-5.1194376350440702},1.7857939048959378E-4]
[-0.31999999999999851,{"$f":"Sheet1!$B$14*A87^8+Sheet1!$B$15*A87^7+Sheet1!$B$16*A87^6+Sheet1!$B$17*A87^5+Sheet1!$B$18*A87^4+Sheet1!$B$19*A87^3+Sheet1!$B$20*A87^2+Sheet1!$B$21*A87+Sheet1!$B$22","v":-5.1094855449575416},1.0995116277759589E-4]
[-0.29999999999999849,{"$f":"Sheet1!$B$14*A88^8+Sheet1!$B$15*A88^7+Sheet1!$B$16*A88^6+Sheet1!$B$17*A88^5+Sheet1!$B$18*A88^4+Sheet1!$B$19*A88^3+Sheet1!$B$20*A88^2+Sheet1!$B$21*A88+Sheet1!$B$22","v":-5.0889196899999982},6.5609999999997347E-5]
[-0.27999999999999847,{"$f":"Sheet1!$B$14*A89^8+Sheet1!$B$15*A89^7+Sheet1!$B$16*A89^6+Sheet1!$B$17*A89^5+Sheet1!$B$18*A89^4+Sheet1!$B$19*A89^3+Sheet1!$B$20*A89^2+Sheet1!$B$21*A89+Sheet1!$B$22","v":-5.0586698284990437},3.7780199833598366E-5]
[-0.25999999999999845,{"$f":"Sheet1!$B$14*A90^8+Sheet1!$B$15*A90^7+Sheet1!$B$16*A90^6+Sheet1!$B$17*A90^5+Sheet1!$B$18*A90^4+Sheet1!$B$19*A90^3+Sheet1!$B$20*A90^2+Sheet1!$B$21*A90+Sheet1!$B$22","v":-5.0195930304877789},2.0882706457599018E-5]
[-0.23999999999999846,{"$f":"Sheet1!$B$14*A91^8+Sheet1!$B$15*A91^7+Sheet1!$B$16*A91^6+Sheet1!$B$17*A91^5+Sheet1!$B$18*A91^4+Sheet1!$B$19*A91^3+Sheet1!$B$20*A91^2+Sheet1!$B$21*A91+Sheet1!$B$22","v":-4.9724798614503385},1.1007531417599436E-5]
[-0.21999999999999847,{"$f":"Sheet1!$B$14*A92^8+Sheet1!$B$15*A92^7+Sheet1!$B$16*A92^6+Sheet1!$B$17*A92^5+Sheet1!$B$18*A92^4+Sheet1!$B$19*A92^3+Sheet1!$B$20*A92^2+Sheet1!$B$21*A92+Sheet1!$B$22","v":-4.9180601900177621},5.4875873535996934E-6]
[-0.19999999999999848,{"$f":"Sheet1!$B$14*A93^8+Sheet1!$B$15*A93^7+Sheet1!$B$16*A93^6+Sheet1!$B$17*A93^5+Sheet1!$B$18*A93^4+Sheet1!$B$19*A93^3+Sheet1!$B$20*A93^2+Sheet1!$B$21*A93+Sheet1!$B$22","v":-4.8570086399999948},2.5599999999998455E-6]
[-0.17999999999999849,{"$f":"Sheet1!$B$14*A94^8+Sheet1!$B$15*A94^7+Sheet1!$B$16*A94^6+Sheet1!$B$17*A94^5+Sheet1!$B$18*A94^4+Sheet1!$B$19*A94^3+Sheet1!$B$20*A94^2+Sheet1!$B$21*A94+Sheet1!$B$22","v":-4.7899497061076168},1.1019960575999259E-6]
[-0.1599999999999985,{"$f":"Sheet1!$B$14*A95^8+Sheet1!$B$15*A95^7+Sheet1!$B$16*A95^6+Sheet1!$B$17*A95^5+Sheet1!$B$18*A95^4+Sheet1!$B$19*A95^3+Sheet1!$B$20*A95^2+Sheet1!$B$21*A95+Sheet1!$B$22","v":-4.7174625516847044},4.2949672959996791E-7]
[-0.13999999999999851,{"$f":"Sheet1!$B$14*A96^8+Sheet1!$B$15*A96^7+Sheet1!$B$16*A96^6+Sheet1!$B$17*A96^5+Sheet1!$B$18*A96^4+Sheet1!$B$19*A96^3+Sheet1!$B$20*A96^2+Sheet1!$B$21*A96+Sheet1!$B$22","v":-4.6400855057420483},1.4757890559998745E-7]
[-0.11999999999999851,{"$f":"Sheet1!$B$14*A97^8+Sheet1!$B$15*A97^7+Sheet1!$B$16*A97^6+Sheet1!$B$17*A97^5+Sheet1!$B$18*A97^4+Sheet1!$B$19*A97^3+Sheet1!$B$20*A97^2+Sheet1!$B$21*A97+Sheet1!$B$22","v":-4.5583202755477439},4.2998169599995725E-8]
[-9.9999999999998507E-2,{"$f":"Sheet1!$B$14*A98^8+Sheet1!$B$15*A98^7+Sheet1!$B$16*A98^6+Sheet1!$B$17*A98^5+Sheet1!$B$18*A98^4+Sheet1!$B$19*A98^3+Sheet1!$B$20*A98^2+Sheet1!$B$21*A98+Sheet1!$B$22","v":-4.4726358899999932},9.9999999999988091E-9]
[-7.9999999999998503E-2,{"$f":"Sheet1!$B$14*A99^8+Sheet1!$B$15*A99^7+Sheet1!$B$16*A99^6+Sheet1!$B$17*A99^5+Sheet1!$B$18*A99^4+Sheet1!$B$19*A99^3+Sheet1!$B$20*A99^2+Sheet1!$B$21*A99+Sheet1!$B$22","v":-4.3834723879747512},1.6777215999997485E-9]
[-5.9999999999998499E-2,{"$f":"Sheet1!$B$14*A100^8+Sheet1!$B$15*A100^7+Sheet1!$B$16*A100^6+Sheet1!$B$17*A100^5+Sheet1!$B$18*A100^4+Sheet1!$B$19*A100^3+Sheet1!$B$20*A100^2+Sheet1!$B$21*A100+Sheet1!$B$22","v":-4.2912442648086717},1.679615999999664E-10]
[-3.9999999999998495E-2,{"$f":"Sheet1!$B$14*A101^8+Sheet1!$B$15*A101^7+Sheet1!$B$16*A101^6+Sheet1!$B$17*A101^5+Sheet1!$B$18*A101^4+Sheet1!$B$19*A101^3+Sheet1!$B$20*A101^2+Sheet1!$B$21*A101+Sheet1!$B$22","v":-4.196343689045599},6.5535999999980272E-12]
[-1.9999999999998495E-2,{"$f":"Sheet1!$B$14*A102^8+Sheet1!$B$15*A102^7+Sheet1!$B$16*A102^6+Sheet1!$B$17*A102^5+Sheet1!$B$18*A102^4+Sheet1!$B$19*A102^3+Sheet1!$B$20*A102^2+Sheet1!$B$21*A102+Sheet1!$B$22","v":-4.0991435005426871},2.5599999999984585E-14]
[1.5057399771478686E-15,{"$f":"Sheet1!$B$14*A103^8+Sheet1!$B$15*A103^7+Sheet1!$B$16*A103^6+Sheet1!$B$17*A103^5+Sheet1!$B$18*A103^4+Sheet1!$B$19*A103^3+Sheet1!$B$20*A103^2+Sheet1!$B$21*A103+Sheet1!$B$22","v":-3.9999999999999925},2.6424078325756612E-119]
[2.0000000000001506E-2,{"$f":"Sheet1!$B$14*A104^8+Sheet1!$B$15*A104^7+Sheet1!$B$16*A104^6+Sheet1!$B$17*A104^5+Sheet1!$B$18*A104^4+Sheet1!$B$19*A104^3+Sheet1!$B$20*A104^2+Sheet1!$B$21*A104+Sheet1!$B$22","v":-3.8992555389452468},2.5600000000015426E-14]
[4.0000000000001507E-2,{"$f":"Sheet1!$B$14*A105^8+Sheet1!$B$15*A105^7+Sheet1!$B$16*A105^6+Sheet1!$B$17*A105^5+Sheet1!$B$18*A105^4+Sheet1!$B$19*A105^3+Sheet1!$B$20*A105^2+Sheet1!$B$21*A105+Sheet1!$B$22","v":-3.7972409181732787},6.5536000000019733E-12]
[6.000000000000151E-2,{"$f":"Sheet1!$B$14*A106^8+Sheet1!$B$15*A106^7+Sheet1!$B$16*A106^6+Sheet1!$B$17*A106^5+Sheet1!$B$18*A106^4+Sheet1!$B$19*A106^3+Sheet1!$B$20*A106^2+Sheet1!$B$21*A106+Sheet1!$B$22","v":-3.6942776016073906},1.6796160000003381E-10]
[8.0000000000001514E-2,{"$f":"Sheet1!$B$14*A107^8+Sheet1!$B$15*A107^7+Sheet1!$B$16*A107^6+Sheet1!$B$17*A107^5+Sheet1!$B$18*A107^4+Sheet1!$B$19*A107^3+Sheet1!$B$20*A107^2+Sheet1!$B$21*A107+Sheet1!$B$22","v":-3.5906797515177904},1.6777216000002543E-9]
[0.10000000000000152,{"$f":"Sheet1!$B$14*A108^8+Sheet1!$B$15*A108^7+Sheet1!$B$16*A108^6+Sheet1!$B$17*A108^5+Sheet1!$B$18*A108^4+Sheet1!$B$19*A108^3+Sheet1!$B$20*A108^2+Sheet1!$B$21*A108+Sheet1!$B$22","v":-3.4867560899999921},1.0000000000001215E-8]
[0.12000000000000152,{"$f":"Sheet1!$B$14*A109^8+Sheet1!$B$15*A109^7+Sheet1!$B$16*A109^6+Sheet1!$B$17*A109^5+Sheet1!$B$18*A109^4+Sheet1!$B$19*A109^3+Sheet1!$B$20*A109^2+Sheet1!$B$21*A109+Sheet1!$B$22","v":-3.3828115905839025},4.2998169600004368E-8]
[0.14000000000000151,{"$f":"Sheet1!$B$14*A110^8+Sheet1!$B$15*A110^7+Sheet1!$B$16*A110^6+Sheet1!$B$17*A110^5+Sheet1!$B$18*A110^4+Sheet1!$B$19*A110^3+Sheet1!$B$20*A110^2+Sheet1!$B$21*A110+Sheet1!$B$22","v":-3.2791490028121268},1.4757890560001273E-7]
[0.1600000000000015,{"$f":"Sheet1!$B$14*A111^8+Sheet1!$B$15*A111^7+Sheet1!$B$16*A111^6+Sheet1!$B$17*A111^5+Sheet1!$B$18*A111^4+Sheet1!$B$19*A111^3+Sheet1!$B$20*A111^2+Sheet1!$B$21*A111+Sheet1!$B$22","v":-3.1760702115938226},4.2949672960003228E-7]
[0.18000000000000149,{"$f":"Sheet1!$B$14*A112^8+Sheet1!$B$15*A112^7+Sheet1!$B$16*A112^6+Sheet1!$B$17*A112^5+Sheet1!$B$18*A112^4+Sheet1!$B$19*A112^3+Sheet1!$B$20*A112^2+Sheet1!$B$21*A112+Sheet1!$B$22","v":-3.0738774321082549},1.1019960576000735E-6]
[0.20000000000000148,{"$f":"Sheet1!$B$14*A113^8+Sheet1!$B$15*A113^7+Sheet1!$B$16*A113^6+Sheet1!$B$17*A113^5+Sheet1!$B$18*A113^4+Sheet1!$B$19*A113^3+Sheet1!$B$20*A113^2+Sheet1!$B$21*A113+Sheet1!$B$22","v":-2.9728742399999923},2.5600000000001517E-6]
[0.22000000000000147,{"$f":"Sheet1!$B$14*A114^8+Sheet1!$B$15*A114^7+Sheet1!$B$16*A114^6+Sheet1!$B$17*A114^5+Sheet1!$B$18*A114^4+Sheet1!$B$19*A114^3+Sheet1!$B$20*A114^2+Sheet1!$B$21*A114+Sheet1!$B$22","v":-2.8733664355755191},5.4875873536002947E-6]
[0.24000000000000146,{"$f":"Sheet1!$B$14*A115^8+Sheet1!$B$15*A115^7+Sheet1!$B$16*A115^6+Sheet1!$B$17*A115^5+Sheet1!$B$18*A115^4+Sheet1!$B$19*A115^3+Sheet1!$B$20*A115^2+Sheet1!$B$21*A115+Sheet1!$B$22","v":-2.7756627396788156},1.1007531417600535E-5]
[0.26000000000000145,{"$f":"Sheet1!$B$14*A116^8+Sheet1!$B$15*A116^7+Sheet1!$B$16*A116^6+Sheet1!$B$17*A116^5+Sheet1!$B$18*A116^4+Sheet1!$B$19*A116^3+Sheet1!$B$20*A116^2+Sheet1!$B$21*A116+Sheet1!$B$22","v":-2.6800753178912955},2.0882706457600936E-5]
[0.28000000000000147,{"$f":"Sheet1!$B$14*A117^8+Sheet1!$B$15*A117^7+Sheet1!$B$16*A117^6+Sheet1!$B$17*A117^5+Sheet1!$B$18*A117^4+Sheet1!$B$19*A117^3+Sheet1!$B$20*A117^2+Sheet1!$B$21*A117+Sheet1!$B$22","v":-2.5869201286692798},3.7780199833601571E-5]
[0.30000000000000149,{"$f":"Sheet1!$B$14*A118^8+Sheet1!$B$15*A118^7+Sheet1!$B$16*A118^6+Sheet1!$B$17*A118^5+Sheet1!$B$18*A118^4+Sheet1!$B$19*A118^3+Sheet1!$B$20*A118^2+Sheet1!$B$21*A118+Sheet1!$B$22","v":-2.4965170899999931},6.5610000000002633E-5]
[0.32000000000000151,{"$f":"Sheet1!$B$14*A119^8+Sheet1!$B$15*A119^7+Sheet1!$B$16*A119^6+Sheet1!$B$17*A119^5+Sheet1!$B$18*A119^4+Sheet1!$B$19*A119^3+Sheet1!$B$20*A119^2+Sheet1!$B$21*A119+Sheet1!$B$22","v":-2.4091900581248957},1.0995116277760416E-4]
[0.34000000000000152,{"$f":"Sheet1!$B$14*A120^8+Sheet1!$B$15*A120^7+Sheet1!$B$16*A120^6+Sheet1!$B$17*A120^5+Sheet1!$B$18*A120^4+Sheet1!$B$19*A120^3+Sheet1!$B$20*A120^2+Sheet1!$B$21*A120+Sheet1!$B$22","v":-2.3252666108469437},1.7857939048960639E-4]
[0.36000000000000154,{"$f":"Sheet1!$B$14*A121^8+Sheet1!$B$15*A121^7+Sheet1!$B$16*A121^6+Sheet1!$B$17*A121^5+Sheet1!$B$18*A121^4+Sheet1!$B$19*A121^3+Sheet1!$B$20*A121^2+Sheet1!$B$21*A121+Sheet1!$B$22","v":-2.245077626906208},2.821109907456096E-4]
[0.38000000000000156,{"$f":"Sheet1!$B$14*A122^8+Sheet1!$B$15*A122^7+Sheet1!$B$16*A122^6+Sheet1!$B$17*A122^5+Sheet1!$B$18*A122^4+Sheet1!$B$19*A122^3+Sheet1!$B$20*A122^2+Sheet1!$B$21*A122+Sheet1!$B$22","v":-2.1689566518760648},4.3477921384961444E-4]
[0.40000000000000158,{"$f":"Sheet1!$B$14*A123^8+Sheet1!$B$15*A123^7+Sheet1!$B$16*A123^6+Sheet1!$B$17*A123^5+Sheet1!$B$18*A123^4+Sheet1!$B$19*A123^3+Sheet1!$B$20*A123^2+Sheet1!$B$21*A123+Sheet1!$B$22","v":-2.0972390399999945},6.5536000000002051E-4]
[0.42000000000000159,{"$f":"Sheet1!$B$14*A124^8+Sheet1!$B$15*A124^7+Sheet1!$B$16*A124^6+Sheet1!$B$17*A124^5+Sheet1!$B$18*A124^4+Sheet1!$B$19*A124^3+Sheet1!$B$20*A124^2+Sheet1!$B$21*A124+Sheet1!$B$22","v":-2.0302608603568331},9.6826519964162935E-4]
[0.44000000000000161,{"$f":"Sheet1!$B$14*A125^8+Sheet1!$B$15*A125^7+Sheet1!$B$16*A125^6+Sheet1!$B$17*A125^5+Sheet1!$B$18*A125^4+Sheet1!$B$19*A125^3+Sheet1!$B$20*A125^2+Sheet1!$B$21*A125+Sheet1!$B$22","v":-1.9683575547101135},1.4048223625216412E-3]
[0.46000000000000163,{"$f":"Sheet1!$B$14*A126^8+Sheet1!$B$15*A126^7+Sheet1!$B$16*A126^6+Sheet1!$B$17*A126^5+Sheet1!$B$18*A126^4+Sheet1!$B$19*A126^3+Sheet1!$B$20*A126^2+Sheet1!$B$21*A126+Sheet1!$B$22","v":-1.911862333364962},2.004761223193657E-3]
[0.48000000000000165,{"$f":"Sheet1!$B$14*A127^8+Sheet1!$B$15*A127^7+Sheet1!$B$16*A127^6+Sheet1!$B$17*A127^5+Sheet1!$B$18*A127^4+Sheet1!$B$19*A127^3+Sheet1!$B$20*A127^2+Sheet1!$B$21*A127+Sheet1!$B$22","v":-1.8611042943238103},2.8179280429056772E-3]
[0.50000000000000167,{"$f":"Sheet1!$B$14*A128^8+Sheet1!$B$15*A128^7+Sheet1!$B$16*A128^6+Sheet1!$B$17*A128^5+Sheet1!$B$18*A128^4+Sheet1!$B$19*A128^3+Sheet1!$B$20*A128^2+Sheet1!$B$21*A128+Sheet1!$B$22","v":-1.8164062499999964},3.9062500000001041E-3]
[0.52000000000000168,{"$f":"Sheet1!$B$14*A129^8+Sheet1!$B$15*A129^7+Sheet1!$B$16*A129^6+Sheet1!$B$17*A129^5+Sheet1!$B$18*A129^4+Sheet1!$B$19*A129^3+Sheet1!$B$20*A129^2+Sheet1!$B$21*A129+Sheet1!$B$22","v":-1.7780822447161313},5.3459728531457381E-3]
[0.5400000000000017,{"$f":"Sheet1!$B$14*A130^8+Sheet1!$B$15*A130^7+Sheet1!$B$16*A130^6+Sheet1!$B$17*A130^5+Sheet1!$B$18*A130^4+Sheet1!$B$19*A130^3+Sheet1!$B$20*A130^2+Sheet1!$B$21*A130+Sheet1!$B$22","v":-1.746434745181924},7.2301961339137849E-3]
[0.56000000000000172,{"$f":"Sheet1!$B$14*A131^8+Sheet1!$B$15*A131^7+Sheet1!$B$16*A131^6+Sheet1!$B$17*A131^5+Sheet1!$B$18*A131^4+Sheet1!$B$19*A131^3+Sheet1!$B$20*A131^2+Sheet1!$B$21*A131+Sheet1!$B$22","v":-1.7217514851139568},{"$f":"cc*A131^p","v":9.6717311574018392E-3}]
[{"$f":"A131+dx","v":0.58000000000000174},{"$f":"Sheet1!$B$14*A132^8+Sheet1!$B$15*A132^7+Sheet1!$B$16*A132^6+Sheet1!$B$17*A132^5+Sheet1!$B$18*A132^4+Sheet1!$B$19*A132^3+Sheet1!$B$20*A132^2+Sheet1!$B$21*A132+Sheet1!$B$22","v":-1.704301944127717},1.280630817180191E-2]
[0.60000000000000175,{"$f":"Sheet1!$B$14*A133^8+Sheet1!$B$15*A133^7+Sheet1!$B$16*A133^6+Sheet1!$B$17*A133^5+Sheet1!$B$18*A133^4+Sheet1!$B$19*A133^3+Sheet1!$B$20*A133^2+Sheet1!$B$21*A133+Sheet1!$B$22","v":-1.6943334399999994},1.6796160000000393E-2]
[0.62000000000000177,{"$f":"Sheet1!$B$14*A134^8+Sheet1!$B$15*A134^7+Sheet1!$B$16*A134^6+Sheet1!$B$17*A134^5+Sheet1!$B$18*A134^4+Sheet1!$B$19*A134^3+Sheet1!$B$20*A134^2+Sheet1!$B$21*A134+Sheet1!$B$22","v":-1.6920668123675906},2.1834010558490095E-2]
[0.64000000000000179,{"$f":"Sheet1!$B$14*A135^8+Sheet1!$B$15*A135^7+Sheet1!$B$16*A135^6+Sheet1!$B$17*A135^5+Sheet1!$B$18*A135^4+Sheet1!$B$19*A135^3+Sheet1!$B$20*A135^2+Sheet1!$B$21*A135+Sheet1!$B$22","v":-1.6976916748959754},2.8147497671066234E-2]
[0.66000000000000181,{"$f":"Sheet1!$B$14*A136^8+Sheet1!$B$15*A136^7+Sheet1!$B$16*A136^6+Sheet1!$B$17*A136^5+Sheet1!$B$18*A136^4+Sheet1!$B$19*A136^3+Sheet1!$B$20*A136^2+Sheet1!$B$21*A136+Sheet1!$B$22","v":-1.7113612119195922},3.6004060626970383E-2]
[0.68000000000000183,{"$f":"Sheet1!$B$14*A137^8+Sheet1!$B$15*A137^7+Sheet1!$B$16*A137^6+Sheet1!$B$17*A137^5+Sheet1!$B$18*A137^4+Sheet1!$B$19*A137^3+Sheet1!$B$20*A137^2+Sheet1!$B$21*A137+Sheet1!$B$22","v":-1.7331864945229842},4.5716323965338583E-2]
[0.70000000000000184,{"$f":"Sheet1!$B$14*A138^8+Sheet1!$B$15*A138^7+Sheet1!$B$16*A138^6+Sheet1!$B$17*A138^5+Sheet1!$B$18*A138^4+Sheet1!$B$19*A138^3+Sheet1!$B$20*A138^2+Sheet1!$B$21*A138+Sheet1!$B$22","v":-1.7632302900000032},5.7648010000001228E-2]
[0.72000000000000186,{"$f":"Sheet1!$B$14*A139^8+Sheet1!$B$15*A139^7+Sheet1!$B$16*A139^6+Sheet1!$B$17*A139^5+Sheet1!$B$18*A139^4+Sheet1!$B$19*A139^3+Sheet1!$B$20*A139^2+Sheet1!$B$21*A139+Sheet1!$B$22","v":-1.8015003375960101},7.2220413630875072E-2]
[0.74000000000000188,{"$f":"Sheet1!$B$14*A140^8+Sheet1!$B$15*A140^7+Sheet1!$B$16*A140^6+Sheet1!$B$17*A140^5+Sheet1!$B$18*A140^4+Sheet1!$B$19*A140^3+Sheet1!$B$20*A140^2+Sheet1!$B$21*A140+Sheet1!$B$22","v":-1.8479420624058669},8.991947402037942E-2]
[0.7600000000000019,{"$f":"Sheet1!$B$14*A141^8+Sheet1!$B$15*A141^7+Sheet1!$B$16*A141^6+Sheet1!$B$17*A141^5+Sheet1!$B$18*A141^4+Sheet1!$B$19*A141^3+Sheet1!$B$20*A141^2+Sheet1!$B$21*A141+Sheet1!$B$22","v":-1.9024306982682679},0.11130347874549981]
[0.78000000000000191,{"$f":"Sheet1!$B$14*A142^8+Sheet1!$B$15*A142^7+Sheet1!$B$16*A142^6+Sheet1!$B$17*A142^5+Sheet1!$B$18*A142^4+Sheet1!$B$19*A142^3+Sheet1!$B$20*A142^2+Sheet1!$B$21*A142+Sheet1!$B$22","v":-1.9647627894648125},0.13701143706831626]
[0.80000000000000193,{"$f":"Sheet1!$B$14*A143^8+Sheet1!$B$15*A143^7+Sheet1!$B$16*A143^6+Sheet1!$B$17*A143^5+Sheet1!$B$18*A143^4+Sheet1!$B$19*A143^3+Sheet1!$B$20*A143^2+Sheet1!$B$21*A143+Sheet1!$B$22","v":-2.0346470400000074},0.16777216000000328]
[0.82000000000000195,{"$f":"Sheet1!$B$14*A144^8+Sheet1!$B$15*A144^7+Sheet1!$B$16*A144^6+Sheet1!$B$17*A144^5+Sheet1!$B$18*A144^4+Sheet1!$B$19*A144^3+Sheet1!$B$20*A144^2+Sheet1!$B$21*A144+Sheet1!$B$22","v":-2.1116944782061906},0.2044140858655015]
[0.84000000000000197,{"$f":"Sheet1!$B$14*A145^8+Sheet1!$B$15*A145^7+Sheet1!$B$16*A145^6+Sheet1!$B$17*A145^5+Sheet1!$B$18*A145^4+Sheet1!$B$19*A145^3+Sheet1!$B$20*A145^2+Sheet1!$B$21*A145+Sheet1!$B$22","v":-2.1954079033851994},0.24787589110825428]
[0.86000000000000199,{"$f":"Sheet1!$B$14*A146^8+Sheet1!$B$15*A146^7+Sheet1!$B$16*A146^6+Sheet1!$B$17*A146^5+Sheet1!$B$18*A146^4+Sheet1!$B$19*A146^3+Sheet1!$B$20*A146^2+Sheet1!$B$21*A146+Sheet1!$B$22","v":-2.2851705801663842},0.29921792710659101]
[0.880000000000002,{"$f":"Sheet1!$B$14*A147^8+Sheet1!$B$15*A147^7+Sheet1!$B$16*A147^6+Sheet1!$B$17*A147^5+Sheet1!$B$18*A147^4+Sheet1!$B$19*A147^3+Sheet1!$B$20*A147^2+Sheet1!$B$21*A147+Sheet1!$B$22","v":-2.3802341452283997},0.35963452480553615]
[0.90000000000000202,{"$f":"Sheet1!$B$14*A148^8+Sheet1!$B$15*A148^7+Sheet1!$B$16*A148^6+Sheet1!$B$17*A148^5+Sheet1!$B$18*A148^4+Sheet1!$B$19*A148^3+Sheet1!$B$20*A148^2+Sheet1!$B$21*A148+Sheet1!$B$22","v":-2.4797056900000101},0.43046721000000759]
[0.92000000000000204,{"$f":"Sheet1!$B$14*A149^8+Sheet1!$B$15*A149^7+Sheet1!$B$16*A149^6+Sheet1!$B$17*A149^5+Sheet1!$B$18*A149^4+Sheet1!$B$19*A149^3+Sheet1!$B$20*A149^2+Sheet1!$B$21*A149+Sheet1!$B$22","v":-2.5825339819229285},0.51321887313757064]
[0.94000000000000206,{"$f":"Sheet1!$B$14*A150^8+Sheet1!$B$15*A150^7+Sheet1!$B$16*A150^6+Sheet1!$B$17*A150^5+Sheet1!$B$18*A150^4+Sheet1!$B$19*A150^3+Sheet1!$B$20*A150^2+Sheet1!$B$21*A150+Sheet1!$B$22","v":-2.6874947858275693},0.60956893854109206]
[0.96000000000000207,{"$f":"Sheet1!$B$14*A151^8+Sheet1!$B$15*A151^7+Sheet1!$B$16*A151^6+Sheet1!$B$17*A151^5+Sheet1!$B$18*A151^4+Sheet1!$B$19*A151^3+Sheet1!$B$20*A151^2+Sheet1!$B$21*A151+Sheet1!$B$22","v":-2.7931752459403376},0.72138957898384604]
[0.98000000000000209,{"$f":"Sheet1!$B$14*A152^8+Sheet1!$B$15*A152^7+Sheet1!$B$16*A152^6+Sheet1!$B$17*A152^5+Sheet1!$B$18*A152^4+Sheet1!$B$19*A152^3+Sheet1!$B$20*A152^2+Sheet1!$B$21*A152+Sheet1!$B$22","v":-2.8979572880089459},0.85076302258180037]
[1.000000000000002,{"$f":"Sheet1!$B$14*A153^8+Sheet1!$B$15*A153^7+Sheet1!$B$16*A153^6+Sheet1!$B$17*A153^5+Sheet1!$B$18*A153^4+Sheet1!$B$19*A153^3+Sheet1!$B$20*A153^2+Sheet1!$B$21*A153+Sheet1!$B$22","v":-3.0000000000000107},1.000000000000016]
[1.020000000000002,{"$f":"Sheet1!$B$14*A154^8+Sheet1!$B$15*A154^7+Sheet1!$B$16*A154^6+Sheet1!$B$17*A154^5+Sheet1!$B$18*A154^4+Sheet1!$B$19*A154^3+Sheet1!$B$20*A154^2+Sheet1!$B$21*A154+Sheet1!$B$22","v":-3.0972209487910227},1.1716593810022848]
[1.040000000000002,{"$f":"Sheet1!$B$14*A155^8+Sheet1!$B$15*A155^7+Sheet1!$B$16*A155^6+Sheet1!$B$17*A155^5+Sheet1!$B$18*A155^4+Sheet1!$B$19*A155^3+Sheet1!$B$20*A155^2+Sheet1!$B$21*A155+Sheet1!$B$22","v":-3.1872763892465752},1.3685690504052954]
[1.0600000000000021,{"$f":"Sheet1!$B$14*A156^8+Sheet1!$B$15*A156^7+Sheet1!$B$16*A156^6+Sheet1!$B$17*A156^5+Sheet1!$B$18*A156^4+Sheet1!$B$19*A156^3+Sheet1!$B$20*A156^2+Sheet1!$B$21*A156+Sheet1!$B$22","v":-3.2675403210365266},1.5938480745308665]
[1.0800000000000021,{"$f":"Sheet1!$B$14*A157^8+Sheet1!$B$15*A157^7+Sheet1!$B$16*A157^6+Sheet1!$B$17*A157^5+Sheet1!$B$18*A157^4+Sheet1!$B$19*A157^3+Sheet1!$B$20*A157^2+Sheet1!$B$21*A157+Sheet1!$B$22","v":-3.3350823475216425},1.8509302102819103]
[1.1000000000000021,{"$f":"Sheet1!$B$14*A158^8+Sheet1!$B$15*A158^7+Sheet1!$B$16*A158^6+Sheet1!$B$17*A158^5+Sheet1!$B$18*A158^4+Sheet1!$B$19*A158^3+Sheet1!$B$20*A158^2+Sheet1!$B$21*A158+Sheet1!$B$22","v":-3.3866442900000031},2.1435888100000331]
[1.1200000000000021,{"$f":"Sheet1!$B$14*A159^8+Sheet1!$B$15*A159^7+Sheet1!$B$16*A159^6+Sheet1!$B$17*A159^5+Sheet1!$B$18*A159^4+Sheet1!$B$19*A159^3+Sheet1!$B$20*A159^2+Sheet1!$B$21*A159+Sheet1!$B$22","v":-3.4186155095752717},2.4759631762948464]
[1.1400000000000021,{"$f":"Sheet1!$B$14*A160^8+Sheet1!$B$15*A160^7+Sheet1!$B$16*A160^6+Sheet1!$B$17*A160^5+Sheet1!$B$18*A160^4+Sheet1!$B$19*A160^3+Sheet1!$B$20*A160^2+Sheet1!$B$21*A160+Sheet1!$B$22","v":-3.4270068878758142},2.8525864220672674]
[1.1600000000000021,{"$f":"Sheet1!$B$14*A161^8+Sheet1!$B$15*A161^7+Sheet1!$B$16*A161^6+Sheet1!$B$17*A161^5+Sheet1!$B$18*A161^4+Sheet1!$B$19*A161^3+Sheet1!$B$20*A161^2+Sheet1!$B$21*A161+Sheet1!$B$22","v":-3.4074234168213504},3.2784148919812584]
[1.1800000000000022,{"$f":"Sheet1!$B$14*A162^8+Sheet1!$B$15*A162^7+Sheet1!$B$16*A162^6+Sheet1!$B$17*A162^5+Sheet1!$B$18*A162^4+Sheet1!$B$19*A162^3+Sheet1!$B$20*A162^2+Sheet1!$B$21*A162+Sheet1!$B$22","v":-3.3550353466016967},3.7588592026706737]
[1.2000000000000022,{"$f":"Sheet1!$B$14*A163^8+Sheet1!$B$15*A163^7+Sheet1!$B$16*A163^6+Sheet1!$B$17*A163^5+Sheet1!$B$18*A163^4+Sheet1!$B$19*A163^3+Sheet1!$B$20*A163^2+Sheet1!$B$21*A163+Sheet1!$B$22","v":-3.264547839999989},4.2998169600000624]
[1.2200000000000022,{"$f":"Sheet1!$B$14*A164^8+Sheet1!$B$15*A164^7+Sheet1!$B$16*A164^6+Sheet1!$B$17*A164^5+Sheet1!$B$18*A164^4+Sheet1!$B$19*A164^3+Sheet1!$B$20*A164^2+Sheet1!$B$21*A164+Sheet1!$B$22","v":-3.1301690801604725},4.9077072127304628]
[1.2400000000000022,{"$f":"Sheet1!$B$14*A165^8+Sheet1!$B$15*A165^7+Sheet1!$B$16*A165^6+Sheet1!$B$17*A165^5+Sheet1!$B$18*A165^4+Sheet1!$B$19*A165^3+Sheet1!$B$20*A165^2+Sheet1!$B$21*A165+Sheet1!$B$22","v":-2.9455767778688804},5.5895067029734165]
[1.2600000000000022,{"$f":"Sheet1!$B$14*A166^8+Sheet1!$B$15*A166^7+Sheet1!$B$16*A166^6+Sheet1!$B$17*A166^5+Sheet1!$B$18*A166^4+Sheet1!$B$19*A166^3+Sheet1!$B$20*A166^2+Sheet1!$B$21*A166+Sheet1!$B$22","v":-2.703883023381195},6.3527879748486287]
[1.2800000000000022,{"$f":"Sheet1!$B$14*A167^8+Sheet1!$B$15*A167^7+Sheet1!$B$16*A167^6+Sheet1!$B$17*A167^5+Sheet1!$B$18*A167^4+Sheet1!$B$19*A167^3+Sheet1!$B$20*A167^2+Sheet1!$B$21*A167+Sheet1!$B$22","v":-2.3975974268042837},7.2057594037928965]
[1.3000000000000023,{"$f":"Sheet1!$B$14*A168^8+Sheet1!$B$15*A168^7+Sheet1!$B$16*A168^6+Sheet1!$B$17*A168^5+Sheet1!$B$18*A168^4+Sheet1!$B$19*A168^3+Sheet1!$B$20*A168^2+Sheet1!$B$21*A168+Sheet1!$B$22","v":-2.0185884899999555},8.1573072100001145]
[1.3200000000000023,{"$f":"Sheet1!$B$14*A169^8+Sheet1!$B$15*A169^7+Sheet1!$B$16*A169^6+Sheet1!$B$17*A169^5+Sheet1!$B$18*A169^4+Sheet1!$B$19*A169^3+Sheet1!$B$20*A169^2+Sheet1!$B$21*A169+Sheet1!$B$22","v":-1.5580431519514049},9.2170395205043452]
[1.3400000000000023,{"$f":"Sheet1!$B$14*A170^8+Sheet1!$B$15*A170^7+Sheet1!$B$16*A170^6+Sheet1!$B$17*A170^5+Sheet1!$B$18*A170^4+Sheet1!$B$19*A170^3+Sheet1!$B$20*A170^2+Sheet1!$B$21*A170+Sheet1!$B$22","v":-1.0064244484993656},10.395332545450149]
[1.3600000000000023,{"$f":"Sheet1!$B$14*A171^8+Sheet1!$B$15*A171^7+Sheet1!$B$16*A171^6+Sheet1!$B$17*A171^5+Sheet1!$B$18*A171^4+Sheet1!$B$19*A171^3+Sheet1!$B$20*A171^2+Sheet1!$B$21*A171+Sheet1!$B$22","v":-0.35342722632245138},11.703378935126585]
[1.3800000000000023,{"$f":"Sheet1!$B$14*A172^8+Sheet1!$B$15*A172^7+Sheet1!$B$16*A172^6+Sheet1!$B$17*A172^5+Sheet1!$B$18*A172^4+Sheet1!$B$19*A172^3+Sheet1!$B$20*A172^2+Sheet1!$B$21*A172+Sheet1!$B$22","v":0.41206814999539354},13.153238385373392]
[1.4000000000000024,{"$f":"Sheet1!$B$14*A173^8+Sheet1!$B$15*A173^7+Sheet1!$B$16*A173^6+Sheet1!$B$17*A173^5+Sheet1!$B$18*A173^4+Sheet1!$B$19*A173^3+Sheet1!$B$20*A173^2+Sheet1!$B$21*A173+Sheet1!$B$22","v":1.3020441600001096},14.757890560000199]
[1.4200000000000024,{"$f":"Sheet1!$B$14*A174^8+Sheet1!$B$15*A174^7+Sheet1!$B$16*A174^6+Sheet1!$B$17*A174^5+Sheet1!$B$18*A174^4+Sheet1!$B$19*A174^3+Sheet1!$B$20*A174^2+Sheet1!$B$21*A174+Sheet1!$B$22","v":2.329396621727132},16.531290399891702]
[1.4400000000000024,{"$f":"Sheet1!$B$14*A175^8+Sheet1!$B$15*A175^7+Sheet1!$B$16*A175^6+Sheet1!$B$17*A175^5+Sheet1!$B$18*A175^4+Sheet1!$B$19*A175^3+Sheet1!$B$20*A175^2+Sheet1!$B$21*A175+Sheet1!$B$22","v":3.5079873826391541},18.488425889503887]
[1.4600000000000024,{"$f":"Sheet1!$B$14*A176^8+Sheet1!$B$15*A176^7+Sheet1!$B$16*A176^6+Sheet1!$B$17*A176^5+Sheet1!$B$18*A176^4+Sheet1!$B$19*A176^3+Sheet1!$B$20*A176^2+Sheet1!$B$21*A176+Sheet1!$B$22","v":4.8526992724284739},20.645378352488734]
[1.4800000000000024,{"$f":"Sheet1!$B$14*A177^8+Sheet1!$B$15*A177^7+Sheet1!$B$16*A177^6+Sheet1!$B$17*A177^5+Sheet1!$B$18*A177^4+Sheet1!$B$19*A177^3+Sheet1!$B$20*A177^2+Sheet1!$B$21*A177+Sheet1!$B$22","v":6.3794933840021368},23.019385349216961]
[1.5000000000000024,{"$f":"Sheet1!$B$14*A178^8+Sheet1!$B$15*A178^7+Sheet1!$B$16*A178^6+Sheet1!$B$17*A178^5+Sheet1!$B$18*A178^4+Sheet1!$B$19*A178^3+Sheet1!$B$20*A178^2+Sheet1!$B$21*A178+Sheet1!$B$22","v":8.1054687500002149},25.628906250000323]
[1.5200000000000025,{"$f":"Sheet1!$B$14*A179^8+Sheet1!$B$15*A179^7+Sheet1!$B$16*A179^6+Sheet1!$B$17*A179^5+Sheet1!$B$18*A179^4+Sheet1!$B$19*A179^3+Sheet1!$B$20*A179^2+Sheet1!$B$21*A179+Sheet1!$B$22","v":10.048924483230371},28.493690558847764]
[1.5400000000000025,{"$f":"Sheet1!$B$14*A180^8+Sheet1!$B$15*A180^7+Sheet1!$B$16*A180^6+Sheet1!$B$17*A180^5+Sheet1!$B$18*A180^4+Sheet1!$B$19*A180^3+Sheet1!$B$20*A180^2+Sheet1!$B$21*A180+Sheet1!$B$22","v":12.229424450433072},31.634849063621036]
[1.5600000000000025,{"$f":"Sheet1!$B$14*A181^8+Sheet1!$B$15*A181^7+Sheet1!$B$16*A181^6+Sheet1!$B$17*A181^5+Sheet1!$B$18*A181^4+Sheet1!$B$19*A181^3+Sheet1!$B$20*A181^2+Sheet1!$B$21*A181+Sheet1!$B$22","v":14.667864549825243},35.074927889488727]
[1.5800000000000025,{"$f":"Sheet1!$B$14*A182^8+Sheet1!$B$15*A182^7+Sheet1!$B$16*A182^6+Sheet1!$B$17*A182^5+Sheet1!$B$18*A182^4+Sheet1!$B$19*A182^3+Sheet1!$B$20*A182^2+Sheet1!$B$21*A182+Sheet1!$B$22","v":17.386542663900805},38.837985533608453]
[1.6000000000000025,{"$f":"Sheet1!$B$14*A183^8+Sheet1!$B$15*A183^7+Sheet1!$B$16*A183^6+Sheet1!$B$17*A183^5+Sheet1!$B$18*A183^4+Sheet1!$B$19*A183^3+Sheet1!$B$20*A183^2+Sheet1!$B$21*A183+Sheet1!$B$22","v":20.409231360000398},42.949672960000541]
[1.6200000000000025,{"$f":"Sheet1!$B$14*A184^8+Sheet1!$B$15*A184^7+Sheet1!$B$16*A184^6+Sheet1!$B$17*A184^5+Sheet1!$B$18*A184^4+Sheet1!$B$19*A184^3+Sheet1!$B$20*A184^2+Sheet1!$B$21*A184+Sheet1!$B$22","v":23.761253412193486},47.437316834607714]
[1.6400000000000026,{"$f":"Sheet1!$B$14*A185^8+Sheet1!$B$15*A185^7+Sheet1!$B$16*A185^6+Sheet1!$B$17*A185^5+Sheet1!$B$18*A185^4+Sheet1!$B$19*A185^3+Sheet1!$B$20*A185^2+Sheet1!$B$21*A185+Sheet1!$B$22","v":27.469560219048834},52.330005981568036]
[1.6600000000000026,{"$f":"Sheet1!$B$14*A186^8+Sheet1!$B$15*A186^7+Sheet1!$B$16*A186^6+Sheet1!$B$17*A186^5+Sheet1!$B$18*A186^4+Sheet1!$B$19*A186^3+Sheet1!$B$20*A186^2+Sheet1!$B$21*A186+Sheet1!$B$22","v":31.562813192901437},57.658681142760173]
[1.6800000000000026,{"$f":"Sheet1!$B$14*A187^8+Sheet1!$B$15*A187^7+Sheet1!$B$16*A187^6+Sheet1!$B$17*A187^5+Sheet1!$B$18*A187^4+Sheet1!$B$19*A187^3+Sheet1!$B$20*A187^2+Sheet1!$B$21*A187+Sheet1!$B$22","v":36.071468197256202},63.456228123712698]
[1.7000000000000026,{"$f":"Sheet1!$B$14*A188^8+Sheet1!$B$15*A188^7+Sheet1!$B$16*A188^6+Sheet1!$B$17*A188^5+Sheet1!$B$18*A188^4+Sheet1!$B$19*A188^3+Sheet1!$B$20*A188^2+Sheet1!$B$21*A188+Sheet1!$B$22","v":41.027863110000688},69.757574410000856]
[1.7200000000000026,{"$f":"Sheet1!$B$14*A189^8+Sheet1!$B$15*A189^7+Sheet1!$B$16*A189^6+Sheet1!$B$17*A189^5+Sheet1!$B$18*A189^4+Sheet1!$B$19*A189^3+Sheet1!$B$20*A189^2+Sheet1!$B$21*A189+Sheet1!$B$22","v":46.466308591131778},76.599789339286843]
[1.7400000000000027,{"$f":"Sheet1!$B$14*A190^8+Sheet1!$B$15*A190^7+Sheet1!$B$16*A190^6+Sheet1!$B$17*A190^5+Sheet1!$B$18*A190^4+Sheet1!$B$19*A190^3+Sheet1!$B$20*A190^2+Sheet1!$B$21*A190+Sheet1!$B$22","v":52.423182134732912},84.022187915191353]
[1.7600000000000027,{"$f":"Sheet1!$B$14*A191^8+Sheet1!$B$15*A191^7+Sheet1!$B$16*A191^6+Sheet1!$B$17*A191^5+Sheet1!$B$18*A191^4+Sheet1!$B$19*A191^3+Sheet1!$B$20*A191^2+Sheet1!$B$21*A191+Sheet1!$B$22","v":58.937025485970693},92.066438350216671]
[1.7800000000000027,{"$f":"Sheet1!$B$14*A192^8+Sheet1!$B$15*A192^7+Sheet1!$B$16*A192^6+Sheet1!$B$17*A192^5+Sheet1!$B$18*A192^4+Sheet1!$B$19*A192^3+Sheet1!$B$20*A192^2+Sheet1!$B$21*A192+Sheet1!$B$22","v":66.048645504913111},100.77667342597448]
[1.8000000000000027,{"$f":"Sheet1!$B$14*A193^8+Sheet1!$B$15*A193^7+Sheet1!$B$16*A193^6+Sheet1!$B$17*A193^5+Sheet1!$B$18*A193^4+Sheet1!$B$19*A193^3+Sheet1!$B$20*A193^2+Sheet1!$B$21*A193+Sheet1!$B$22","v":73.801218560001061},110.1996057600013]
[1.8200000000000027,{"$f":"Sheet1!$B$14*A194^8+Sheet1!$B$15*A194^7+Sheet1!$B$16*A194^6+Sheet1!$B$17*A194^5+Sheet1!$B$18*A194^4+Sheet1!$B$19*A194^3+Sheet1!$B$20*A194^2+Sheet1!$B$21*A194+Sheet1!$B$22","v":82.240398535040441},120.38464706948038]
[1.8400000000000027,{"$f":"Sheet1!$B$14*A195^8+Sheet1!$B$15*A195^7+Sheet1!$B$16*A195^6+Sheet1!$B$17*A195^5+Sheet1!$B$18*A195^4+Sheet1!$B$19*A195^3+Sheet1!$B$20*A195^2+Sheet1!$B$21*A195+Sheet1!$B$22","v":91.414428534611616},{"$f":"cc*A195^p","v":131.38403152321732}]
[{"$f":"A195+dx","v":1.8600000000000028},{"$f":"Sheet1!$B$14*A196^8+Sheet1!$B$15*A196^7+Sheet1!$B$16*A196^6+Sheet1!$B$17*A196^5+Sheet1!$B$18*A196^4+Sheet1!$B$19*A196^3+Sheet1!$B$20*A196^2+Sheet1!$B$21*A196+Sheet1!$B$22","v":101.37425637382677},143.25294327425198]
[1.8800000000000028,{"$f":"Sheet1!$B$14*A197^8+Sheet1!$B$15*A197^7+Sheet1!$B$16*A197^6+Sheet1!$B$17*A197^5+Sheet1!$B$18*A197^4+Sheet1!$B$19*A197^3+Sheet1!$B$20*A197^2+Sheet1!$B$21*A197+Sheet1!$B$22","v":112.1736539393965},156.04964826651872]
[1.9000000000000028,{"$f":"Sheet1!$B$14*A198^8+Sheet1!$B$15*A198^7+Sheet1!$B$16*A198^6+Sheet1!$B$17*A198^5+Sheet1!$B$18*A198^4+Sheet1!$B$19*A198^3+Sheet1!$B$20*A198^2+Sheet1!$B$21*A198+Sheet1!$B$22","v":123.86934051000169},169.83563041000198]
[1.9200000000000028,{"$f":"Sheet1!$B$14*A199^8+Sheet1!$B$15*A199^7+Sheet1!$B$16*A199^6+Sheet1!$B$17*A199^5+Sheet1!$B$18*A199^4+Sheet1!$B$19*A199^3+Sheet1!$B$20*A199^2+Sheet1!$B$21*A199+Sheet1!$B$22","v":136.52111012499486},184.67573221986362]
[1.9400000000000028,{"$f":"Sheet1!$B$14*A200^8+Sheet1!$B$15*A200^7+Sheet1!$B$16*A200^6+Sheet1!$B$17*A200^5+Sheet1!$B$18*A200^4+Sheet1!$B$19*A200^3+Sheet1!$B$20*A200^2+Sheet1!$B$21*A200+Sheet1!$B$22","v":150.19196309149157},200.63830001605254]
[1.9600000000000029,{"$f":"Sheet1!$B$14*A201^8+Sheet1!$B$15*A201^7+Sheet1!$B$16*A201^6+Sheet1!$B$17*A201^5+Sheet1!$B$18*A201^4+Sheet1!$B$19*A201^3+Sheet1!$B$20*A201^2+Sheet1!$B$21*A201+Sheet1!$B$22","v":164.94824172094317},217.79533378093967]
[1.9800000000000029,{"$f":"Sheet1!$B$14*A202^8+Sheet1!$B$15*A202^7+Sheet1!$B$16*A202^6+Sheet1!$B$17*A202^5+Sheet1!$B$18*A202^4+Sheet1!$B$19*A202^3+Sheet1!$B$20*A202^2+Sheet1!$B$21*A202+Sheet1!$B$22","v":180.85977038731122},236.22264177355029]
[2.0000000000000027,{"$f":"Sheet1!$B$14*A203^8+Sheet1!$B$15*A203^7+Sheet1!$B$16*A203^6+Sheet1!$B$17*A203^5+Sheet1!$B$18*A203^4+Sheet1!$B$19*A203^3+Sheet1!$B$20*A203^2+Sheet1!$B$21*A203+Sheet1!$B$22","v":198.00000000000239},256.00000000000273]
[2.0200000000000027,{"$f":"Sheet1!$B$14*A204^8+Sheet1!$B$15*A204^7+Sheet1!$B$16*A204^6+Sheet1!$B$17*A204^5+Sheet1!$B$18*A204^4+Sheet1!$B$19*A204^3+Sheet1!$B$20*A204^2+Sheet1!$B$21*A204+Sheet1!$B$22","v":216.44615698574972},277.21131664079138]

{"sheet":"Sheet3","index":2,"n_rows":0,"n_cols":0,"rows_kept":0,"cut":false,"hidden":false,"merged":[]}