{"text_format":"1","workbook":"xlsx","n_sheets":3,"sheets":["Sheet1","Sheet2","Sheet3"],"not_rendered":{"charts":1,"images":1,"macros":0,"external_links":0,"defined_names":12,"comments":1,"pivot_tables":0},"unopened":[],"bounds":{"document_bytes":16777216,"sheet_cells":100000,"rows_first":2000,"rows_last":500,"rows_between":2000,"halvings":0,"cell_chars":16384,"cell_head_chars":4096},"cells_cut":0,"cells_raw":0,"read":"whole","date_system":"1900"}

{"sheet":"Sheet1","index":0,"n_rows":46,"n_cols":13,"rows_kept":46,"cut":false,"hidden":false,"merged":[]}
[null,"         The Graph of a Polynomial"]
[]
[null,"           This graphing utility produces the graph "]
[null,"          of any desired polynomial (up to 8th degree)"]
[null,"   y = c0x8+c1x7+c2x6+c3x5+c4x4+c5x3+c6x2+c7x+c8"]
[null,"where  c0, c1, c2, c3, c4, c5, c6, c7, c8 are any coefficients"]
[null,"             on any interval from x = a  to x = b."]
[]
["First enter the value for each of the coefficients in"]
["      "," y = c0x8+ c1x7+ c2x6+ c3x5+ c4x4+ c5x3+ c6x2+ c7x+ c8"]
[null,"(Use 0's if you don't want some of the terms)"]
[]
["c0 =",2]
["c1 =",-1]
["c2 =",5]
["c3 =",-6,null,null,null,null,null,{"$f":"\"The graph of y = \" &TEXT(a0,\"0.00\") &\"x^8+\"&TEXT(b0,\"0.00\")&\"x^7 + \" &TEXT(c0,\"0.00\") &\"x^6+\"&TEXT(d0,\"0.00\")&\"x^5 +\"&TEXT(e0,\"0.00\")&\"x^4 + \" &TEXT(f0,\"0.00\") &\"x^3+\"&TEXT(g0,\"0.00\")&\"x^2 +\" &TEXT(h0,\"0.00\") &\"x+\"&TEXT(i0,\"0.00\")","v":"The graph of y = 2.00x^8+-1.00x^7 + 5.00x^6+-6.00x^5 +3.00x^4 + 0.00x^3+2.00x^2 +5.00x+-4.00"}]
["c4 =",3]
["c5 =",0]
["c6 =",2,null,null,null,null,null,null,"   Select the point on the curve x0 =",null,null,null,{"$f":"xMin+L21*dx","v":0.20999999999999996}]
["c7 =",5]
["c8 =",-4,null,null,null,null,null,null,null,null,null,121]
[]
[]
[null,null,null,null,null,null,null,null,"The value of the function at x0 = ",null,null,null,{"$f":"M19","v":0.20999999999999996}]
["Now enter the interval for x:  ",null,null,null,null,null,null,null,null,null,null,"is  y =",{"$f":"LOOKUP(M24,Sheet2!A3:A203,Sheet2!B3:B203)","v":-2.9168076799999954}]
[null,"xMin =",-1]
[null,"xMax =",1]
[]
[]
[]
[]
["Click each item below for suggestions and investigations"]
[null,"   Item 1"]
[null,"   Item 2"]
[null,"   Item 3"]
[]
[]
[]
[]
[]
[]
["Created by:  Sheldon P. Gordon"]
["                     Farmingdale StateCollege"]
["Development of this module was supported by the "]
["NSF's Division of Undergraduate Education  "]
["under grants DUE-0310123 and DUE-0442160."]

{"sheet":"Sheet2","index":1,"n_rows":204,"n_cols":6,"rows_kept":204,"cut":false,"hidden":false,"merged":[]}
[]
["x","y"]
[{"$f":"xMin","v":-1},{"$f":"Sheet1!$B$13*A3^8+Sheet1!$B$14*A3^7+Sheet1!$B$15*A3^6+Sheet1!$B$16*A3^5+Sheet1!$B$17*A3^4+Sheet1!$B$18*A3^3+Sheet1!$B$19*A3^2+Sheet1!$B$20*A3+Sheet1!$B$21","v":10},null,null,"DeltaX=",{"$f":"(xMax - xMin)/200","v":0.01}]
[{"$f":"A3+dx","v":-0.99},{"$f":"Sheet1!$B$13*A4^8+Sheet1!$B$14*A4^7+Sheet1!$B$15*A4^6+Sheet1!$B$16*A4^5+Sheet1!$B$17*A4^4+Sheet1!$B$18*A4^3+Sheet1!$B$19*A4^2+Sheet1!$B$20*A4+Sheet1!$B$21","v":9.0828838131678289}]
[-0.98,{"$f":"Sheet1!$B$13*A5^8+Sheet1!$B$14*A5^7+Sheet1!$B$15*A5^6+Sheet1!$B$16*A5^5+Sheet1!$B$17*A5^4+Sheet1!$B$18*A5^3+Sheet1!$B$19*A5^2+Sheet1!$B$20*A5+Sheet1!$B$21","v":8.210292743530287}]
[-0.97,{"$f":"Sheet1!$B$13*A6^8+Sheet1!$B$14*A6^7+Sheet1!$B$15*A6^6+Sheet1!$B$16*A6^5+Sheet1!$B$17*A6^4+Sheet1!$B$18*A6^3+Sheet1!$B$19*A6^2+Sheet1!$B$20*A6+Sheet1!$B$21","v":7.3804121725015204},null,null,"Point"]
[-0.96,{"$f":"Sheet1!$B$13*A7^8+Sheet1!$B$14*A7^7+Sheet1!$B$15*A7^6+Sheet1!$B$16*A7^5+Sheet1!$B$17*A7^4+Sheet1!$B$18*A7^3+Sheet1!$B$19*A7^2+Sheet1!$B$20*A7+Sheet1!$B$21","v":6.5914914501558286},null,null,{"$f":"Sheet1!M24","v":0.20999999999999996},{"$f":"Sheet1!M25","v":-2.9168076799999954}]
[-0.95,{"$f":"Sheet1!$B$13*A8^8+Sheet1!$B$14*A8^7+Sheet1!$B$15*A8^6+Sheet1!$B$16*A8^5+Sheet1!$B$17*A8^4+Sheet1!$B$18*A8^3+Sheet1!$B$19*A8^2+Sheet1!$B$20*A8+Sheet1!$B$21","v":5.8418419867968758}]
[-0.94,{"$f":"Sheet1!$B$13*A9^8+Sheet1!$B$14*A9^7+Sheet1!$B$15*A9^6+Sheet1!$B$16*A9^5+Sheet1!$B$17*A9^4+Sheet1!$B$18*A9^3+Sheet1!$B$19*A9^2+Sheet1!$B$20*A9+Sheet1!$B$21","v":5.1298353909548027}]
[-0.92999999999999994,{"$f":"Sheet1!$B$13*A10^8+Sheet1!$B$14*A10^7+Sheet1!$B$15*A10^6+Sheet1!$B$16*A10^5+Sheet1!$B$17*A10^4+Sheet1!$B$18*A10^3+Sheet1!$B$19*A10^2+Sheet1!$B$20*A10+Sheet1!$B$21","v":4.4539016529826441}]
[-0.91999999999999993,{"$f":"Sheet1!$B$13*A11^8+Sheet1!$B$14*A11^7+Sheet1!$B$15*A11^6+Sheet1!$B$16*A11^5+Sheet1!$B$17*A11^4+Sheet1!$B$18*A11^3+Sheet1!$B$19*A11^2+Sheet1!$B$20*A11+Sheet1!$B$21","v":3.8125273734315979}]
[-0.90999999999999992,{"$f":"Sheet1!$B$13*A12^8+Sheet1!$B$14*A12^7+Sheet1!$B$15*A12^6+Sheet1!$B$16*A12^5+Sheet1!$B$17*A12^4+Sheet1!$B$18*A12^3+Sheet1!$B$19*A12^2+Sheet1!$B$20*A12+Sheet1!$B$21","v":3.2042540353926077}]
[-0.89999999999999991,{"$f":"Sheet1!$B$13*A13^8+Sheet1!$B$14*A13^7+Sheet1!$B$15*A13^6+Sheet1!$B$16*A13^5+Sheet1!$B$17*A13^4+Sheet1!$B$18*A13^3+Sheet1!$B$19*A13^2+Sheet1!$B$20*A13+Sheet1!$B$21","v":2.6276763199999937}]
[-0.8899999999999999,{"$f":"Sheet1!$B$13*A14^8+Sheet1!$B$14*A14^7+Sheet1!$B$15*A14^6+Sheet1!$B$16*A14^5+Sheet1!$B$17*A14^4+Sheet1!$B$18*A14^3+Sheet1!$B$19*A14^2+Sheet1!$B$20*A14+Sheet1!$B$21","v":2.0814404643006981}]
[-0.87999999999999989,{"$f":"Sheet1!$B$13*A15^8+Sheet1!$B$14*A15^7+Sheet1!$B$15*A15^6+Sheet1!$B$16*A15^5+Sheet1!$B$17*A15^4+Sheet1!$B$18*A15^3+Sheet1!$B$19*A15^2+Sheet1!$B$20*A15+Sheet1!$B$21","v":1.5642426607009758}]
[-0.86999999999999988,{"$f":"Sheet1!$B$13*A16^8+Sheet1!$B$14*A16^7+Sheet1!$B$15*A16^6+Sheet1!$B$16*A16^5+Sheet1!$B$17*A16^4+Sheet1!$B$18*A16^3+Sheet1!$B$19*A16^2+Sheet1!$B$20*A16+Sheet1!$B$21","v":1.0748274972102489}]
[-0.85999999999999988,{"$f":"Sheet1!$B$13*A17^8+Sheet1!$B$14*A17^7+Sheet1!$B$15*A17^6+Sheet1!$B$16*A17^5+Sheet1!$B$17*A17^4+Sheet1!$B$18*A17^3+Sheet1!$B$19*A17^2+Sheet1!$B$20*A17+Sheet1!$B$21","v":0.61198643771012762}]
[-0.84999999999999987,{"$f":"Sheet1!$B$13*A18^8+Sheet1!$B$14*A18^7+Sheet1!$B$15*A18^6+Sheet1!$B$16*A18^5+Sheet1!$B$17*A18^4+Sheet1!$B$18*A18^3+Sheet1!$B$19*A18^2+Sheet1!$B$20*A18+Sheet1!$B$21","v":0.17455634148437138}]
[-0.83999999999999986,{"$f":"Sheet1!$B$13*A19^8+Sheet1!$B$14*A19^7+Sheet1!$B$15*A19^6+Sheet1!$B$16*A19^5+Sheet1!$B$17*A19^4+Sheet1!$B$18*A19^3+Sheet1!$B$19*A19^2+Sheet1!$B$20*A19+Sheet1!$B$21","v":-0.23858197874606546}]
[-0.82999999999999985,{"$f":"Sheet1!$B$13*A20^8+Sheet1!$B$14*A20^7+Sheet1!$B$15*A20^6+Sheet1!$B$16*A20^5+Sheet1!$B$17*A20^4+Sheet1!$B$18*A20^3+Sheet1!$B$19*A20^2+Sheet1!$B$20*A20+Sheet1!$B$21","v":-0.62850516103092779}]
[-0.81999999999999984,{"$f":"Sheet1!$B$13*A21^8+Sheet1!$B$14*A21^7+Sheet1!$B$15*A21^6+Sheet1!$B$16*A21^5+Sheet1!$B$17*A21^4+Sheet1!$B$18*A21^3+Sheet1!$B$19*A21^2+Sheet1!$B$20*A21+Sheet1!$B$21","v":-0.99624866138132973}]
[-0.80999999999999983,{"$f":"Sheet1!$B$13*A22^8+Sheet1!$B$14*A22^7+Sheet1!$B$15*A22^6+Sheet1!$B$16*A22^5+Sheet1!$B$17*A22^4+Sheet1!$B$18*A22^3+Sheet1!$B$19*A22^2+Sheet1!$B$20*A22+Sheet1!$B$21","v":-1.3428080846750277}]
[-0.79999999999999982,{"$f":"Sheet1!$B$13*A23^8+Sheet1!$B$14*A23^7+Sheet1!$B$15*A23^6+Sheet1!$B$16*A23^5+Sheet1!$B$17*A23^4+Sheet1!$B$18*A23^3+Sheet1!$B$19*A23^2+Sheet1!$B$20*A23+Sheet1!$B$21","v":-1.6691404800000065}]
[-0.78999999999999981,{"$f":"Sheet1!$B$13*A24^8+Sheet1!$B$14*A24^7+Sheet1!$B$15*A24^6+Sheet1!$B$16*A24^5+Sheet1!$B$17*A24^4+Sheet1!$B$18*A24^3+Sheet1!$B$19*A24^2+Sheet1!$B$20*A24+Sheet1!$B$21","v":-1.976165601152104}]
[-0.7799999999999998,{"$f":"Sheet1!$B$13*A25^8+Sheet1!$B$14*A25^7+Sheet1!$B$15*A25^6+Sheet1!$B$16*A25^5+Sheet1!$B$17*A25^4+Sheet1!$B$18*A25^3+Sheet1!$B$19*A25^2+Sheet1!$B$20*A25+Sheet1!$B$21","v":-2.2647671329942578}]
[-0.7699999999999998,{"$f":"Sheet1!$B$13*A26^8+Sheet1!$B$14*A26^7+Sheet1!$B$15*A26^6+Sheet1!$B$16*A26^5+Sheet1!$B$17*A26^4+Sheet1!$B$18*A26^3+Sheet1!$B$19*A26^2+Sheet1!$B$20*A26+Sheet1!$B$21","v":-2.5357938843769396}]
[-0.75999999999999979,{"$f":"Sheet1!$B$13*A27^8+Sheet1!$B$14*A27^7+Sheet1!$B$15*A27^6+Sheet1!$B$16*A27^5+Sheet1!$B$17*A27^4+Sheet1!$B$18*A27^3+Sheet1!$B$19*A27^2+Sheet1!$B$20*A27+Sheet1!$B$21","v":-2.7900609483112504}]
[-0.74999999999999978,{"$f":"Sheet1!$B$13*A28^8+Sheet1!$B$14*A28^7+Sheet1!$B$15*A28^6+Sheet1!$B$16*A28^5+Sheet1!$B$17*A28^4+Sheet1!$B$18*A28^3+Sheet1!$B$19*A28^2+Sheet1!$B$20*A28+Sheet1!$B$21","v":-3.0283508300781303}]
[-0.73999999999999977,{"$f":"Sheet1!$B$13*A29^8+Sheet1!$B$14*A29^7+Sheet1!$B$15*A29^6+Sheet1!$B$16*A29^5+Sheet1!$B$17*A29^4+Sheet1!$B$18*A29^3+Sheet1!$B$19*A29^2+Sheet1!$B$20*A29+Sheet1!$B$21","v":-3.2514145439490103}]
[-0.72999999999999976,{"$f":"Sheet1!$B$13*A30^8+Sheet1!$B$14*A30^7+Sheet1!$B$15*A30^6+Sheet1!$B$16*A30^5+Sheet1!$B$17*A30^4+Sheet1!$B$18*A30^3+Sheet1!$B$19*A30^2+Sheet1!$B$20*A30+Sheet1!$B$21","v":-3.4599726791852197}]
[-0.71999999999999975,{"$f":"Sheet1!$B$13*A31^8+Sheet1!$B$14*A31^7+Sheet1!$B$15*A31^6+Sheet1!$B$16*A31^5+Sheet1!$B$17*A31^4+Sheet1!$B$18*A31^3+Sheet1!$B$19*A31^2+Sheet1!$B$20*A31+Sheet1!$B$21","v":-3.6547164359753781}]
[-0.70999999999999974,{"$f":"Sheet1!$B$13*A32^8+Sheet1!$B$14*A32^7+Sheet1!$B$15*A32^6+Sheet1!$B$16*A32^5+Sheet1!$B$17*A32^4+Sheet1!$B$18*A32^3+Sheet1!$B$19*A32^2+Sheet1!$B$20*A32+Sheet1!$B$21","v":-3.8363086319619422}]
[-0.69999999999999973,{"$f":"Sheet1!$B$13*A33^8+Sheet1!$B$14*A33^7+Sheet1!$B$15*A33^6+Sheet1!$B$16*A33^5+Sheet1!$B$17*A33^4+Sheet1!$B$18*A33^3+Sheet1!$B$19*A33^2+Sheet1!$B$20*A33+Sheet1!$B$21","v":-4.005384680000005}]
[-0.68999999999999972,{"$f":"Sheet1!$B$13*A34^8+Sheet1!$B$14*A34^7+Sheet1!$B$15*A34^6+Sheet1!$B$16*A34^5+Sheet1!$B$17*A34^4+Sheet1!$B$18*A34^3+Sheet1!$B$19*A34^2+Sheet1!$B$20*A34+Sheet1!$B$21","v":-4.1625535377833858}]
[-0.67999999999999972,{"$f":"Sheet1!$B$13*A35^8+Sheet1!$B$14*A35^7+Sheet1!$B$15*A35^6+Sheet1!$B$16*A35^5+Sheet1!$B$17*A35^4+Sheet1!$B$18*A35^3+Sheet1!$B$19*A35^2+Sheet1!$B$20*A35+Sheet1!$B$21","v":-4.3083986299650086}]
[-0.66999999999999971,{"$f":"Sheet1!$B$13*A36^8+Sheet1!$B$14*A36^7+Sheet1!$B$15*A36^6+Sheet1!$B$16*A36^5+Sheet1!$B$17*A36^4+Sheet1!$B$18*A36^3+Sheet1!$B$19*A36^2+Sheet1!$B$20*A36+Sheet1!$B$21","v":-4.443478743390445}]
[-0.6599999999999997,{"$f":"Sheet1!$B$13*A37^8+Sheet1!$B$14*A37^7+Sheet1!$B$15*A37^6+Sheet1!$B$16*A37^5+Sheet1!$B$17*A37^4+Sheet1!$B$18*A37^3+Sheet1!$B$19*A37^2+Sheet1!$B$20*A37+Sheet1!$B$21","v":-4.5683288960555046}]
[-0.64999999999999969,{"$f":"Sheet1!$B$13*A38^8+Sheet1!$B$14*A38^7+Sheet1!$B$15*A38^6+Sheet1!$B$16*A38^5+Sheet1!$B$17*A38^4+Sheet1!$B$18*A38^3+Sheet1!$B$19*A38^2+Sheet1!$B$20*A38+Sheet1!$B$21","v":-4.6834611803906281}]
[-0.63999999999999968,{"$f":"Sheet1!$B$13*A39^8+Sheet1!$B$14*A39^7+Sheet1!$B$15*A39^6+Sheet1!$B$16*A39^5+Sheet1!$B$17*A39^4+Sheet1!$B$18*A39^3+Sheet1!$B$19*A39^2+Sheet1!$B$20*A39+Sheet1!$B$21","v":-4.7893655814668321}]
[-0.62999999999999967,{"$f":"Sheet1!$B$13*A40^8+Sheet1!$B$14*A40^7+Sheet1!$B$15*A40^6+Sheet1!$B$16*A40^5+Sheet1!$B$17*A40^4+Sheet1!$B$18*A40^3+Sheet1!$B$19*A40^2+Sheet1!$B$20*A40+Sheet1!$B$21","v":-4.8865107707098288}]
[-0.61999999999999966,{"$f":"Sheet1!$B$13*A41^8+Sheet1!$B$14*A41^7+Sheet1!$B$15*A41^6+Sheet1!$B$16*A41^5+Sheet1!$B$17*A41^4+Sheet1!$B$18*A41^3+Sheet1!$B$19*A41^2+Sheet1!$B$20*A41+Sheet1!$B$21","v":-4.9753448757009435}]
[-0.60999999999999965,{"$f":"Sheet1!$B$13*A42^8+Sheet1!$B$14*A42^7+Sheet1!$B$15*A42^6+Sheet1!$B$16*A42^5+Sheet1!$B$17*A42^4+Sheet1!$B$18*A42^3+Sheet1!$B$19*A42^2+Sheet1!$B$20*A42+Sheet1!$B$21","v":-5.056296226635336}]
[-0.59999999999999964,{"$f":"Sheet1!$B$13*A43^8+Sheet1!$B$14*A43^7+Sheet1!$B$15*A43^6+Sheet1!$B$16*A43^5+Sheet1!$B$17*A43^4+Sheet1!$B$18*A43^3+Sheet1!$B$19*A43^2+Sheet1!$B$20*A43+Sheet1!$B$21","v":-5.1297740800000025}]
[-0.58999999999999964,{"$f":"Sheet1!$B$13*A44^8+Sheet1!$B$14*A44^7+Sheet1!$B$15*A44^6+Sheet1!$B$16*A44^5+Sheet1!$B$17*A44^4+Sheet1!$B$18*A44^3+Sheet1!$B$19*A44^2+Sheet1!$B$20*A44+Sheet1!$B$21","v":-5.1961693200259482}]
[-0.57999999999999963,{"$f":"Sheet1!$B$13*A45^8+Sheet1!$B$14*A45^7+Sheet1!$B$15*A45^6+Sheet1!$B$16*A45^5+Sheet1!$B$17*A45^4+Sheet1!$B$18*A45^3+Sheet1!$B$19*A45^2+Sheet1!$B$20*A45+Sheet1!$B$21","v":-5.2558551384608787}]
[-0.56999999999999962,{"$f":"Sheet1!$B$13*A46^8+Sheet1!$B$14*A46^7+Sheet1!$B$15*A46^6+Sheet1!$B$16*A46^5+Sheet1!$B$17*A46^4+Sheet1!$B$18*A46^3+Sheet1!$B$19*A46^2+Sheet1!$B$20*A46+Sheet1!$B$21","v":-5.3091876932006716}]
[-0.55999999999999961,{"$f":"Sheet1!$B$13*A47^8+Sheet1!$B$14*A47^7+Sheet1!$B$15*A47^6+Sheet1!$B$16*A47^5+Sheet1!$B$17*A47^4+Sheet1!$B$18*A47^3+Sheet1!$B$19*A47^2+Sheet1!$B$20*A47+Sheet1!$B$21","v":-5.3565067463098384}]
[-0.5499999999999996,{"$f":"Sheet1!$B$13*A48^8+Sheet1!$B$14*A48^7+Sheet1!$B$15*A48^6+Sheet1!$B$16*A48^5+Sheet1!$B$17*A48^4+Sheet1!$B$18*A48^3+Sheet1!$B$19*A48^2+Sheet1!$B$20*A48+Sheet1!$B$21","v":-5.3981362819531267}]
[-0.53999999999999959,{"$f":"Sheet1!$B$13*A49^8+Sheet1!$B$14*A49^7+Sheet1!$B$15*A49^6+Sheet1!$B$16*A49^5+Sheet1!$B$17*A49^4+Sheet1!$B$18*A49^3+Sheet1!$B$19*A49^2+Sheet1!$B$20*A49+Sheet1!$B$21","v":-5.4343851047523337}]
[-0.52999999999999958,{"$f":"Sheet1!$B$13*A50^8+Sheet1!$B$14*A50^7+Sheet1!$B$15*A50^6+Sheet1!$B$16*A50^5+Sheet1!$B$17*A50^4+Sheet1!$B$18*A50^3+Sheet1!$B$19*A50^2+Sheet1!$B$20*A50+Sheet1!$B$21","v":-5.4655474190743591}]
[-0.51999999999999957,{"$f":"Sheet1!$B$13*A51^8+Sheet1!$B$14*A51^7+Sheet1!$B$15*A51^6+Sheet1!$B$16*A51^5+Sheet1!$B$17*A51^4+Sheet1!$B$18*A51^3+Sheet1!$B$19*A51^2+Sheet1!$B$20*A51+Sheet1!$B$21","v":-5.4919033897484297}]
[-0.50999999999999956,{"$f":"Sheet1!$B$13*A52^8+Sheet1!$B$14*A52^7+Sheet1!$B$15*A52^6+Sheet1!$B$16*A52^5+Sheet1!$B$17*A52^4+Sheet1!$B$18*A52^3+Sheet1!$B$19*A52^2+Sheet1!$B$20*A52+Sheet1!$B$21","v":-5.5137196847024104}]
[-0.49999999999999956,{"$f":"Sheet1!$B$13*A53^8+Sheet1!$B$14*A53^7+Sheet1!$B$15*A53^6+Sheet1!$B$16*A53^5+Sheet1!$B$17*A53^4+Sheet1!$B$18*A53^3+Sheet1!$B$19*A53^2+Sheet1!$B$20*A53+Sheet1!$B$21","v":-5.5312500000000009}]
[-0.48999999999999955,{"$f":"Sheet1!$B$13*A54^8+Sheet1!$B$14*A54^7+Sheet1!$B$15*A54^6+Sheet1!$B$16*A54^5+Sheet1!$B$17*A54^4+Sheet1!$B$18*A54^3+Sheet1!$B$19*A54^2+Sheet1!$B$20*A54+Sheet1!$B$21","v":-5.54473556775259}]
[-0.47999999999999954,{"$f":"Sheet1!$B$13*A55^8+Sheet1!$B$14*A55^7+Sheet1!$B$15*A55^6+Sheet1!$B$16*A55^5+Sheet1!$B$17*A55^4+Sheet1!$B$18*A55^3+Sheet1!$B$19*A55^2+Sheet1!$B$20*A55+Sheet1!$B$21","v":-5.5544056473714694}]
[-0.46999999999999953,{"$f":"Sheet1!$B$13*A56^8+Sheet1!$B$14*A56^7+Sheet1!$B$15*A56^6+Sheet1!$B$16*A56^5+Sheet1!$B$17*A56^4+Sheet1!$B$18*A56^3+Sheet1!$B$19*A56^2+Sheet1!$B$20*A56+Sheet1!$B$21","v":-5.5604780006180183}]
[-0.45999999999999952,{"$f":"Sheet1!$B$13*A57^8+Sheet1!$B$14*A57^7+Sheet1!$B$15*A57^6+Sheet1!$B$16*A57^5+Sheet1!$B$17*A57^4+Sheet1!$B$18*A57^3+Sheet1!$B$19*A57^2+Sheet1!$B$20*A57+Sheet1!$B$21","v":-5.5631593509014525}]
[-0.44999999999999951,{"$f":"Sheet1!$B$13*A58^8+Sheet1!$B$14*A58^7+Sheet1!$B$15*A58^6+Sheet1!$B$16*A58^5+Sheet1!$B$17*A58^4+Sheet1!$B$18*A58^3+Sheet1!$B$19*A58^2+Sheet1!$B$20*A58+Sheet1!$B$21","v":-5.5626458272656247}]
[-0.4399999999999995,{"$f":"Sheet1!$B$13*A59^8+Sheet1!$B$14*A59^7+Sheet1!$B$15*A59^6+Sheet1!$B$16*A59^5+Sheet1!$B$17*A59^4+Sheet1!$B$18*A59^3+Sheet1!$B$19*A59^2+Sheet1!$B$20*A59+Sheet1!$B$21","v":-5.5591233934983162}]
[-0.42999999999999949,{"$f":"Sheet1!$B$13*A60^8+Sheet1!$B$14*A60^7+Sheet1!$B$15*A60^6+Sheet1!$B$16*A60^5+Sheet1!$B$17*A60^4+Sheet1!$B$18*A60^3+Sheet1!$B$19*A60^2+Sheet1!$B$20*A60+Sheet1!$B$21","v":-5.5527682627884101}]
[-0.41999999999999948,{"$f":"Sheet1!$B$13*A61^8+Sheet1!$B$14*A61^7+Sheet1!$B$15*A61^6+Sheet1!$B$16*A61^5+Sheet1!$B$17*A61^4+Sheet1!$B$18*A61^3+Sheet1!$B$19*A61^2+Sheet1!$B$20*A61+Sheet1!$B$21","v":-5.5437472983482365}]
[-0.40999999999999948,{"$f":"Sheet1!$B$13*A62^8+Sheet1!$B$14*A62^7+Sheet1!$B$15*A62^6+Sheet1!$B$16*A62^5+Sheet1!$B$17*A62^4+Sheet1!$B$18*A62^3+Sheet1!$B$19*A62^2+Sheet1!$B$20*A62+Sheet1!$B$21","v":-5.5322184004103647}]
[-0.39999999999999947,{"$f":"Sheet1!$B$13*A63^8+Sheet1!$B$14*A63^7+Sheet1!$B$15*A63^6+Sheet1!$B$16*A63^5+Sheet1!$B$17*A63^4+Sheet1!$B$18*A63^3+Sheet1!$B$19*A63^2+Sheet1!$B$20*A63+Sheet1!$B$21","v":-5.5183308799999988}]
[-0.38999999999999946,{"$f":"Sheet1!$B$13*A64^8+Sheet1!$B$14*A64^7+Sheet1!$B$15*A64^6+Sheet1!$B$16*A64^5+Sheet1!$B$17*A64^4+Sheet1!$B$18*A64^3+Sheet1!$B$19*A64^2+Sheet1!$B$20*A64+Sheet1!$B$21","v":-5.5022258198761129}]
[-0.37999999999999945,{"$f":"Sheet1!$B$13*A65^8+Sheet1!$B$14*A65^7+Sheet1!$B$15*A65^6+Sheet1!$B$16*A65^5+Sheet1!$B$17*A65^4+Sheet1!$B$18*A65^3+Sheet1!$B$19*A65^2+Sheet1!$B$20*A65+Sheet1!$B$21","v":-5.4840364230263798}]
[-0.36999999999999944,{"$f":"Sheet1!$B$13*A66^8+Sheet1!$B$14*A66^7+Sheet1!$B$15*A66^6+Sheet1!$B$16*A66^5+Sheet1!$B$17*A66^4+Sheet1!$B$18*A66^3+Sheet1!$B$19*A66^2+Sheet1!$B$20*A66+Sheet1!$B$21","v":-5.4638883490928851}]
[-0.35999999999999943,{"$f":"Sheet1!$B$13*A67^8+Sheet1!$B$14*A67^7+Sheet1!$B$15*A67^6+Sheet1!$B$16*A67^5+Sheet1!$B$17*A67^4+Sheet1!$B$18*A67^3+Sheet1!$B$19*A67^2+Sheet1!$B$20*A67+Sheet1!$B$21","v":-5.4419000390975469}]
[{"$f":"A67+dx","v":-0.34999999999999942},{"$f":"Sheet1!$B$13*A68^8+Sheet1!$B$14*A68^7+Sheet1!$B$15*A68^6+Sheet1!$B$16*A68^5+Sheet1!$B$17*A68^4+Sheet1!$B$18*A68^3+Sheet1!$B$19*A68^2+Sheet1!$B$20*A68+Sheet1!$B$21","v":-5.4181830288281239}]
[-0.33999999999999941,{"$f":"Sheet1!$B$13*A69^8+Sheet1!$B$14*A69^7+Sheet1!$B$15*A69^6+Sheet1!$B$16*A69^5+Sheet1!$B$17*A69^4+Sheet1!$B$18*A69^3+Sheet1!$B$19*A69^2+Sheet1!$B$20*A69+Sheet1!$B$21","v":-5.3928422512375791}]
[-0.3299999999999994,{"$f":"Sheet1!$B$13*A70^8+Sheet1!$B$14*A70^7+Sheet1!$B$15*A70^6+Sheet1!$B$16*A70^5+Sheet1!$B$17*A70^4+Sheet1!$B$18*A70^3+Sheet1!$B$19*A70^2+Sheet1!$B$20*A70+Sheet1!$B$21","v":-5.3659763282015804}]
[-0.3199999999999994,{"$f":"Sheet1!$B$13*A71^8+Sheet1!$B$14*A71^7+Sheet1!$B$15*A71^6+Sheet1!$B$16*A71^5+Sheet1!$B$17*A71^4+Sheet1!$B$18*A71^3+Sheet1!$B$19*A71^2+Sheet1!$B$20*A71+Sheet1!$B$21","v":-5.3376778519707635}]
[-0.30999999999999939,{"$f":"Sheet1!$B$13*A72^8+Sheet1!$B$14*A72^7+Sheet1!$B$15*A72^6+Sheet1!$B$16*A72^5+Sheet1!$B$17*A72^4+Sheet1!$B$18*A72^3+Sheet1!$B$19*A72^2+Sheet1!$B$20*A72+Sheet1!$B$21","v":-5.3080336566463995}]
[-0.29999999999999938,{"$f":"Sheet1!$B$13*A73^8+Sheet1!$B$14*A73^7+Sheet1!$B$15*A73^6+Sheet1!$B$16*A73^5+Sheet1!$B$17*A73^4+Sheet1!$B$18*A73^3+Sheet1!$B$19*A73^2+Sheet1!$B$20*A73+Sheet1!$B$21","v":-5.2771250799999976}]
[-0.28999999999999937,{"$f":"Sheet1!$B$13*A74^8+Sheet1!$B$14*A74^7+Sheet1!$B$15*A74^6+Sheet1!$B$16*A74^5+Sheet1!$B$17*A74^4+Sheet1!$B$18*A74^3+Sheet1!$B$19*A74^2+Sheet1!$B$20*A74+Sheet1!$B$21","v":-5.2450282159493158}]
[-0.27999999999999936,{"$f":"Sheet1!$B$13*A75^8+Sheet1!$B$14*A75^7+Sheet1!$B$15*A75^6+Sheet1!$B$16*A75^5+Sheet1!$B$17*A75^4+Sheet1!$B$18*A75^3+Sheet1!$B$19*A75^2+Sheet1!$B$20*A75+Sheet1!$B$21","v":-5.2118141579952102}]
[-0.26999999999999935,{"$f":"Sheet1!$B$13*A76^8+Sheet1!$B$14*A76^7+Sheet1!$B$15*A76^6+Sheet1!$B$16*A76^5+Sheet1!$B$17*A76^4+Sheet1!$B$18*A76^3+Sheet1!$B$19*A76^2+Sheet1!$B$20*A76+Sheet1!$B$21","v":-5.1775492339156717}]
[-0.25999999999999934,{"$f":"Sheet1!$B$13*A77^8+Sheet1!$B$14*A77^7+Sheet1!$B$15*A77^6+Sheet1!$B$16*A77^5+Sheet1!$B$17*A77^4+Sheet1!$B$18*A77^3+Sheet1!$B$19*A77^2+Sheet1!$B$20*A77+Sheet1!$B$21","v":-5.1422952320053223}]
[-0.24999999999999933,{"$f":"Sheet1!$B$13*A78^8+Sheet1!$B$14*A78^7+Sheet1!$B$15*A78^6+Sheet1!$B$16*A78^5+Sheet1!$B$17*A78^4+Sheet1!$B$18*A78^3+Sheet1!$B$19*A78^2+Sheet1!$B$20*A78+Sheet1!$B$21","v":-5.1061096191406223}]
[-0.23999999999999932,{"$f":"Sheet1!$B$13*A79^8+Sheet1!$B$14*A79^7+Sheet1!$B$15*A79^6+Sheet1!$B$16*A79^5+Sheet1!$B$17*A79^4+Sheet1!$B$18*A79^3+Sheet1!$B$19*A79^2+Sheet1!$B$20*A79+Sheet1!$B$21","v":-5.0690457509429221}]
[-0.22999999999999932,{"$f":"Sheet1!$B$13*A80^8+Sheet1!$B$14*A80^7+Sheet1!$B$15*A80^6+Sheet1!$B$16*A80^5+Sheet1!$B$17*A80^4+Sheet1!$B$18*A80^3+Sheet1!$B$19*A80^2+Sheet1!$B$20*A80+Sheet1!$B$21","v":-5.0311530743034716}]
[-0.21999999999999931,{"$f":"Sheet1!$B$13*A81^8+Sheet1!$B$14*A81^7+Sheet1!$B$15*A81^6+Sheet1!$B$16*A81^5+Sheet1!$B$17*A81^4+Sheet1!$B$18*A81^3+Sheet1!$B$19*A81^2+Sheet1!$B$20*A81+Sheet1!$B$21","v":-4.9924773225264101}]
[-0.2099999999999993,{"$f":"Sheet1!$B$13*A82^8+Sheet1!$B$14*A82^7+Sheet1!$B$15*A82^6+Sheet1!$B$16*A82^5+Sheet1!$B$17*A82^4+Sheet1!$B$18*A82^3+Sheet1!$B$19*A82^2+Sheet1!$B$20*A82+Sheet1!$B$21","v":-4.953060703337715}]
[-0.19999999999999929,{"$f":"Sheet1!$B$13*A83^8+Sheet1!$B$14*A83^7+Sheet1!$B$15*A83^6+Sheet1!$B$16*A83^5+Sheet1!$B$17*A83^4+Sheet1!$B$18*A83^3+Sheet1!$B$19*A83^2+Sheet1!$B$20*A83+Sheet1!$B$21","v":-4.912942079999997}]
[-0.18999999999999928,{"$f":"Sheet1!$B$13*A84^8+Sheet1!$B$14*A84^7+Sheet1!$B$15*A84^6+Sheet1!$B$16*A84^5+Sheet1!$B$17*A84^4+Sheet1!$B$18*A84^3+Sheet1!$B$19*A84^2+Sheet1!$B$20*A84+Sheet1!$B$21","v":-4.8721571457649988}]
[-0.17999999999999927,{"$f":"Sheet1!$B$13*A85^8+Sheet1!$B$14*A85^7+Sheet1!$B$15*A85^6+Sheet1!$B$16*A85^5+Sheet1!$B$17*A85^4+Sheet1!$B$18*A85^3+Sheet1!$B$19*A85^2+Sheet1!$B$20*A85+Sheet1!$B$21","v":-4.8307385918875614}]
[-0.16999999999999926,{"$f":"Sheet1!$B$13*A86^8+Sheet1!$B$14*A86^7+Sheet1!$B$15*A86^6+Sheet1!$B$16*A86^5+Sheet1!$B$17*A86^4+Sheet1!$B$18*A86^3+Sheet1!$B$19*A86^2+Sheet1!$B$20*A86+Sheet1!$B$21","v":-4.7887162694167786}]
[-0.15999999999999925,{"$f":"Sheet1!$B$13*A87^8+Sheet1!$B$14*A87^7+Sheet1!$B$15*A87^6+Sheet1!$B$16*A87^5+Sheet1!$B$17*A87^4+Sheet1!$B$18*A87^3+Sheet1!$B$19*A87^2+Sheet1!$B$20*A87+Sheet1!$B$21","v":-4.746117344971978}]
[-0.14999999999999925,{"$f":"Sheet1!$B$13*A88^8+Sheet1!$B$14*A88^7+Sheet1!$B$15*A88^6+Sheet1!$B$16*A88^5+Sheet1!$B$17*A88^4+Sheet1!$B$18*A88^3+Sheet1!$B$19*A88^2+Sheet1!$B$20*A88+Sheet1!$B$21","v":-4.7029664507031219}]
[-0.13999999999999924,{"$f":"Sheet1!$B$13*A89^8+Sheet1!$B$14*A89^7+Sheet1!$B$15*A89^6+Sheet1!$B$16*A89^5+Sheet1!$B$17*A89^4+Sheet1!$B$18*A89^3+Sheet1!$B$19*A89^2+Sheet1!$B$20*A89+Sheet1!$B$21","v":-4.6592858286271452}]
[-0.12999999999999923,{"$f":"Sheet1!$B$13*A90^8+Sheet1!$B$14*A90^7+Sheet1!$B$15*A90^6+Sheet1!$B$16*A90^5+Sheet1!$B$17*A90^4+Sheet1!$B$18*A90^3+Sheet1!$B$19*A90^2+Sheet1!$B$20*A90+Sheet1!$B$21","v":-4.6150954695236823}]
[-0.11999999999999923,{"$f":"Sheet1!$B$13*A91^8+Sheet1!$B$14*A91^7+Sheet1!$B$15*A91^6+Sheet1!$B$16*A91^5+Sheet1!$B$17*A91^4+Sheet1!$B$18*A91^3+Sheet1!$B$19*A91^2+Sheet1!$B$20*A91+Sheet1!$B$21","v":-4.5704132465655771}]
[-0.10999999999999924,{"$f":"Sheet1!$B$13*A92^8+Sheet1!$B$14*A92^7+Sheet1!$B$15*A92^6+Sheet1!$B$16*A92^5+Sheet1!$B$17*A92^4+Sheet1!$B$18*A92^3+Sheet1!$B$19*A92^2+Sheet1!$B$20*A92+Sheet1!$B$21","v":-4.5252550438515105}]
[-9.9999999999999242E-2,{"$f":"Sheet1!$B$13*A93^8+Sheet1!$B$14*A93^7+Sheet1!$B$15*A93^6+Sheet1!$B$16*A93^5+Sheet1!$B$17*A93^4+Sheet1!$B$18*A93^3+Sheet1!$B$19*A93^2+Sheet1!$B$20*A93+Sheet1!$B$21","v":-4.4796348799999963}]
[-8.9999999999999247E-2,{"$f":"Sheet1!$B$13*A94^8+Sheet1!$B$14*A94^7+Sheet1!$B$15*A94^6+Sheet1!$B$16*A94^5+Sheet1!$B$17*A94^4+Sheet1!$B$18*A94^3+Sheet1!$B$19*A94^2+Sheet1!$B$20*A94+Sheet1!$B$21","v":-4.4335650269559626}]
[-7.9999999999999252E-2,{"$f":"Sheet1!$B$13*A95^8+Sheet1!$B$14*A95^7+Sheet1!$B$15*A95^6+Sheet1!$B$16*A95^5+Sheet1!$B$17*A95^4+Sheet1!$B$18*A95^3+Sheet1!$B$19*A95^2+Sheet1!$B$20*A95+Sheet1!$B$21","v":-4.387056124153033}]
[-6.9999999999999257E-2,{"$f":"Sheet1!$B$13*A96^8+Sheet1!$B$14*A96^7+Sheet1!$B$15*A96^6+Sheet1!$B$16*A96^5+Sheet1!$B$17*A96^4+Sheet1!$B$18*A96^3+Sheet1!$B$19*A96^2+Sheet1!$B$20*A96+Sheet1!$B$21","v":-4.3401172881666064}]
[-5.9999999999999255E-2,{"$f":"Sheet1!$B$13*A97^8+Sheet1!$B$14*A97^7+Sheet1!$B$15*A97^6+Sheet1!$B$16*A97^5+Sheet1!$B$17*A97^4+Sheet1!$B$18*A97^3+Sheet1!$B$19*A97^2+Sheet1!$B$20*A97+Sheet1!$B$21","v":-4.2927562179847136}]
[-4.9999999999999253E-2,{"$f":"Sheet1!$B$13*A98^8+Sheet1!$B$14*A98^7+Sheet1!$B$15*A98^6+Sheet1!$B$16*A98^5+Sheet1!$B$17*A98^4+Sheet1!$B$18*A98^3+Sheet1!$B$19*A98^2+Sheet1!$B$20*A98+Sheet1!$B$21","v":-4.2449792960156216}]
[-3.9999999999999251E-2,{"$f":"Sheet1!$B$13*A99^8+Sheet1!$B$14*A99^7+Sheet1!$B$15*A99^6+Sheet1!$B$16*A99^5+Sheet1!$B$17*A99^4+Sheet1!$B$18*A99^3+Sheet1!$B$19*A99^2+Sheet1!$B$20*A99+Sheet1!$B$21","v":-4.1967916849430491}]
[-2.9999999999999249E-2,{"$f":"Sheet1!$B$13*A100^8+Sheet1!$B$14*A100^7+Sheet1!$B$15*A100^6+Sheet1!$B$16*A100^5+Sheet1!$B$17*A100^4+Sheet1!$B$18*A100^3+Sheet1!$B$19*A100^2+Sheet1!$B$20*A100+Sheet1!$B$21","v":-4.1481974205318144}]
[-1.9999999999999248E-2,{"$f":"Sheet1!$B$13*A101^8+Sheet1!$B$14*A101^7+Sheet1!$B$15*A101^6+Sheet1!$B$16*A101^5+Sheet1!$B$17*A101^4+Sheet1!$B$18*A101^3+Sheet1!$B$19*A101^2+Sheet1!$B$20*A101+Sheet1!$B$21","v":-4.0991995004786652}]
[-9.9999999999992473E-3,{"$f":"Sheet1!$B$13*A102^8+Sheet1!$B$14*A102^7+Sheet1!$B$15*A102^6+Sheet1!$B$16*A102^5+Sheet1!$B$17*A102^4+Sheet1!$B$18*A102^3+Sheet1!$B$19*A102^2+Sheet1!$B$20*A102+Sheet1!$B$21","v":-4.0497999693949858}]
[7.5286998857393428E-16,{"$f":"Sheet1!$B$13*A103^8+Sheet1!$B$14*A103^7+Sheet1!$B$15*A103^6+Sheet1!$B$16*A103^5+Sheet1!$B$17*A103^4+Sheet1!$B$18*A103^3+Sheet1!$B$19*A103^2+Sheet1!$B$20*A103+Sheet1!$B$21","v":-3.9999999999999964}]
[1.0000000000000753E-2,{"$f":"Sheet1!$B$13*A104^8+Sheet1!$B$14*A104^7+Sheet1!$B$15*A104^6+Sheet1!$B$16*A104^5+Sheet1!$B$17*A104^4+Sheet1!$B$18*A104^3+Sheet1!$B$19*A104^2+Sheet1!$B$20*A104+Sheet1!$B$21","v":-3.9497999705950062}]
[2.0000000000000753E-2,{"$f":"Sheet1!$B$13*A105^8+Sheet1!$B$14*A105^7+Sheet1!$B$15*A105^6+Sheet1!$B$16*A105^5+Sheet1!$B$17*A105^4+Sheet1!$B$18*A105^3+Sheet1!$B$19*A105^2+Sheet1!$B$20*A105+Sheet1!$B$21","v":-3.8991995388812248}]
[3.0000000000000755E-2,{"$f":"Sheet1!$B$13*A106^8+Sheet1!$B$14*A106^7+Sheet1!$B$15*A106^6+Sheet1!$B$16*A106^5+Sheet1!$B$17*A106^4+Sheet1!$B$18*A106^3+Sheet1!$B$19*A106^2+Sheet1!$B$20*A106+Sheet1!$B$21","v":-3.848197712175554}]
[4.0000000000000757E-2,{"$f":"Sheet1!$B$13*A107^8+Sheet1!$B$14*A107^7+Sheet1!$B$15*A107^6+Sheet1!$B$16*A107^5+Sheet1!$B$17*A107^4+Sheet1!$B$18*A107^3+Sheet1!$B$19*A107^2+Sheet1!$B$20*A107+Sheet1!$B$21","v":-3.7967929140707288}]
[5.0000000000000759E-2,{"$f":"Sheet1!$B$13*A108^8+Sheet1!$B$14*A108^7+Sheet1!$B$15*A108^6+Sheet1!$B$16*A108^5+Sheet1!$B$17*A108^4+Sheet1!$B$18*A108^3+Sheet1!$B$19*A108^2+Sheet1!$B$20*A108+Sheet1!$B$21","v":-3.7449830475781209}]
[6.0000000000000761E-2,{"$f":"Sheet1!$B$13*A109^8+Sheet1!$B$14*A109^7+Sheet1!$B$15*A109^6+Sheet1!$B$16*A109^5+Sheet1!$B$17*A109^4+Sheet1!$B$18*A109^3+Sheet1!$B$19*A109^2+Sheet1!$B$20*A109+Sheet1!$B$21","v":-3.692765554783433}]
[7.0000000000000756E-2,{"$f":"Sheet1!$B$13*A110^8+Sheet1!$B$14*A110^7+Sheet1!$B$15*A110^6+Sheet1!$B$16*A110^5+Sheet1!$B$17*A110^4+Sheet1!$B$18*A110^3+Sheet1!$B$19*A110^2+Sheet1!$B$20*A110+Sheet1!$B$21","v":-3.6401374730374658}]
[8.0000000000000751E-2,{"$f":"Sheet1!$B$13*A111^8+Sheet1!$B$14*A111^7+Sheet1!$B$15*A111^6+Sheet1!$B$16*A111^5+Sheet1!$B$17*A111^4+Sheet1!$B$18*A111^3+Sheet1!$B$19*A111^2+Sheet1!$B$20*A111+Sheet1!$B$21","v":-3.587095487696073}]
[9.0000000000000746E-2,{"$f":"Sheet1!$B$13*A112^8+Sheet1!$B$14*A112^7+Sheet1!$B$15*A112^6+Sheet1!$B$16*A112^5+Sheet1!$B$17*A112^4+Sheet1!$B$18*A112^3+Sheet1!$B$19*A112^2+Sheet1!$B$20*A112+Sheet1!$B$21","v":-3.5336359814153417}]
[0.10000000000000074,{"$f":"Sheet1!$B$13*A113^8+Sheet1!$B$14*A113^7+Sheet1!$B$15*A113^6+Sheet1!$B$16*A113^5+Sheet1!$B$17*A113^4+Sheet1!$B$18*A113^3+Sheet1!$B$19*A113^2+Sheet1!$B$20*A113+Sheet1!$B$21","v":-3.4797550799999959}]
[0.11000000000000074,{"$f":"Sheet1!$B$13*A114^8+Sheet1!$B$14*A114^7+Sheet1!$B$15*A114^6+Sheet1!$B$16*A114^5+Sheet1!$B$17*A114^4+Sheet1!$B$18*A114^3+Sheet1!$B$19*A114^2+Sheet1!$B$20*A114+Sheet1!$B$21","v":-3.4254486947949299}]
[0.12000000000000073,{"$f":"Sheet1!$B$13*A115^8+Sheet1!$B$14*A115^7+Sheet1!$B$15*A115^6+Sheet1!$B$16*A115^5+Sheet1!$B$17*A115^4+Sheet1!$B$18*A115^3+Sheet1!$B$19*A115^2+Sheet1!$B$20*A115+Sheet1!$B$21","v":-3.3707125616017368}]
[0.13000000000000073,{"$f":"Sheet1!$B$13*A116^8+Sheet1!$B$14*A116^7+Sheet1!$B$15*A116^6+Sheet1!$B$16*A116^5+Sheet1!$B$17*A116^4+Sheet1!$B$18*A116^3+Sheet1!$B$19*A116^2+Sheet1!$B$20*A116+Sheet1!$B$21","v":-3.3155422760940216}]
[0.14000000000000073,{"$f":"Sheet1!$B$13*A117^8+Sheet1!$B$14*A117^7+Sheet1!$B$15*A117^6+Sheet1!$B$16*A117^5+Sheet1!$B$17*A117^4+Sheet1!$B$18*A117^3+Sheet1!$B$19*A117^2+Sheet1!$B$20*A117+Sheet1!$B$21","v":-3.2599333256972245}]
[0.15000000000000074,{"$f":"Sheet1!$B$13*A118^8+Sheet1!$B$14*A118^7+Sheet1!$B$15*A118^6+Sheet1!$B$16*A118^5+Sheet1!$B$17*A118^4+Sheet1!$B$18*A118^3+Sheet1!$B$19*A118^2+Sheet1!$B$20*A118+Sheet1!$B$21","v":-3.2038811178906208}]
[0.16000000000000075,{"$f":"Sheet1!$B$13*A119^8+Sheet1!$B$14*A119^7+Sheet1!$B$15*A119^6+Sheet1!$B$16*A119^5+Sheet1!$B$17*A119^4+Sheet1!$B$18*A119^3+Sheet1!$B$19*A119^2+Sheet1!$B$20*A119+Sheet1!$B$21","v":-3.1473810048810966}]
[0.17000000000000076,{"$f":"Sheet1!$B$13*A120^8+Sheet1!$B$14*A120^7+Sheet1!$B$15*A120^6+Sheet1!$B$16*A120^5+Sheet1!$B$17*A120^4+Sheet1!$B$18*A120^3+Sheet1!$B$19*A120^2+Sheet1!$B$20*A120+Sheet1!$B$21","v":-3.0904283045902377}]
[0.18000000000000077,{"$f":"Sheet1!$B$13*A121^8+Sheet1!$B$14*A121^7+Sheet1!$B$15*A121^6+Sheet1!$B$16*A121^5+Sheet1!$B$17*A121^4+Sheet1!$B$18*A121^3+Sheet1!$B$19*A121^2+Sheet1!$B$20*A121+Sheet1!$B$21","v":-3.0330183178882004}]
[0.19000000000000078,{"$f":"Sheet1!$B$13*A122^8+Sheet1!$B$14*A122^7+Sheet1!$B$15*A122^6+Sheet1!$B$16*A122^5+Sheet1!$B$17*A122^4+Sheet1!$B$18*A122^3+Sheet1!$B$19*A122^2+Sheet1!$B$20*A122+Sheet1!$B$21","v":-2.9751463419997775}]
[0.20000000000000079,{"$f":"Sheet1!$B$13*A123^8+Sheet1!$B$14*A123^7+Sheet1!$B$15*A123^6+Sheet1!$B$16*A123^5+Sheet1!$B$17*A123^4+Sheet1!$B$18*A123^3+Sheet1!$B$19*A123^2+Sheet1!$B$20*A123+Sheet1!$B$21","v":-2.9168076799999954}]
[0.2100000000000008,{"$f":"Sheet1!$B$13*A124^8+Sheet1!$B$14*A124^7+Sheet1!$B$15*A124^6+Sheet1!$B$16*A124^5+Sheet1!$B$17*A124^4+Sheet1!$B$18*A124^3+Sheet1!$B$19*A124^2+Sheet1!$B$20*A124+Sheet1!$B$21","v":-2.857997646308533}]
[0.22000000000000081,{"$f":"Sheet1!$B$13*A125^8+Sheet1!$B$14*A125^7+Sheet1!$B$15*A125^6+Sheet1!$B$16*A125^5+Sheet1!$B$17*A125^4+Sheet1!$B$18*A125^3+Sheet1!$B$19*A125^2+Sheet1!$B$20*A125+Sheet1!$B$21","v":-2.7987115680841681}]
[0.23000000000000081,{"$f":"Sheet1!$B$13*A126^8+Sheet1!$B$14*A126^7+Sheet1!$B$15*A126^6+Sheet1!$B$16*A126^5+Sheet1!$B$17*A126^4+Sheet1!$B$18*A126^3+Sheet1!$B$19*A126^2+Sheet1!$B$20*A126+Sheet1!$B$21","v":-2.7389447824124087}]
[0.24000000000000082,{"$f":"Sheet1!$B$13*A127^8+Sheet1!$B$14*A127^7+Sheet1!$B$15*A127^6+Sheet1!$B$16*A127^5+Sheet1!$B$17*A127^4+Sheet1!$B$18*A127^3+Sheet1!$B$19*A127^2+Sheet1!$B$20*A127+Sheet1!$B$21","v":-2.6786926291713997}]
[0.25000000000000083,{"$f":"Sheet1!$B$13*A128^8+Sheet1!$B$14*A128^7+Sheet1!$B$15*A128^6+Sheet1!$B$16*A128^5+Sheet1!$B$17*A128^4+Sheet1!$B$18*A128^3+Sheet1!$B$19*A128^2+Sheet1!$B$20*A128+Sheet1!$B$21","v":-2.6179504394531197}]
[0.26000000000000084,{"$f":"Sheet1!$B$13*A129^8+Sheet1!$B$14*A129^7+Sheet1!$B$15*A129^6+Sheet1!$B$16*A129^5+Sheet1!$B$17*A129^4+Sheet1!$B$18*A129^3+Sheet1!$B$19*A129^2+Sheet1!$B$20*A129+Sheet1!$B$21","v":-2.5567135194088397}]
[0.27000000000000085,{"$f":"Sheet1!$B$13*A130^8+Sheet1!$B$14*A130^7+Sheet1!$B$15*A130^6+Sheet1!$B$16*A130^5+Sheet1!$B$17*A130^4+Sheet1!$B$18*A130^3+Sheet1!$B$19*A130^2+Sheet1!$B$20*A130+Sheet1!$B$21","v":-2.4949771293797287}]
[0.28000000000000086,{"$f":"Sheet1!$B$13*A131^8+Sheet1!$B$14*A131^7+Sheet1!$B$15*A131^6+Sheet1!$B$16*A131^5+Sheet1!$B$17*A131^4+Sheet1!$B$18*A131^3+Sheet1!$B$19*A131^2+Sheet1!$B$20*A131+Sheet1!$B$21","v":-2.4327364581654471}]
[{"$f":"A131+dx","v":0.29000000000000087},{"$f":"Sheet1!$B$13*A132^8+Sheet1!$B$14*A132^7+Sheet1!$B$15*A132^6+Sheet1!$B$16*A132^5+Sheet1!$B$17*A132^4+Sheet1!$B$18*A132^3+Sheet1!$B$19*A132^2+Sheet1!$B$20*A132+Sheet1!$B$21","v":-2.3699865922754926}]
[0.30000000000000088,{"$f":"Sheet1!$B$13*A133^8+Sheet1!$B$14*A133^7+Sheet1!$B$15*A133^6+Sheet1!$B$16*A133^5+Sheet1!$B$17*A133^4+Sheet1!$B$18*A133^3+Sheet1!$B$19*A133^2+Sheet1!$B$20*A133+Sheet1!$B$21","v":-2.3067224799999941}]
[0.31000000000000089,{"$f":"Sheet1!$B$13*A134^8+Sheet1!$B$14*A134^7+Sheet1!$B$15*A134^6+Sheet1!$B$16*A134^5+Sheet1!$B$17*A134^4+Sheet1!$B$18*A134^3+Sheet1!$B$19*A134^2+Sheet1!$B$20*A134+Sheet1!$B$21","v":-2.2429388901286158}]
[0.32000000000000089,{"$f":"Sheet1!$B$13*A135^8+Sheet1!$B$14*A135^7+Sheet1!$B$15*A135^6+Sheet1!$B$16*A135^5+Sheet1!$B$17*A135^4+Sheet1!$B$18*A135^3+Sheet1!$B$19*A135^2+Sheet1!$B$20*A135+Sheet1!$B$21","v":-2.1786303651381189}]
[0.3300000000000009,{"$f":"Sheet1!$B$13*A136^8+Sheet1!$B$14*A136^7+Sheet1!$B$15*A136^6+Sheet1!$B$16*A136^5+Sheet1!$B$17*A136^4+Sheet1!$B$18*A136^3+Sheet1!$B$19*A136^2+Sheet1!$B$20*A136+Sheet1!$B$21","v":-2.1137911686611162}]
[0.34000000000000091,{"$f":"Sheet1!$B$13*A137^8+Sheet1!$B$14*A137^7+Sheet1!$B$15*A137^6+Sheet1!$B$16*A137^5+Sheet1!$B$17*A137^4+Sheet1!$B$18*A137^3+Sheet1!$B$19*A137^2+Sheet1!$B$20*A137+Sheet1!$B$21","v":-2.0484152270404548}]
[0.35000000000000092,{"$f":"Sheet1!$B$13*A138^8+Sheet1!$B$14*A138^7+Sheet1!$B$15*A138^6+Sheet1!$B$16*A138^5+Sheet1!$B$17*A138^4+Sheet1!$B$18*A138^3+Sheet1!$B$19*A138^2+Sheet1!$B$20*A138+Sheet1!$B$21","v":-1.9824960647656189}]
[0.36000000000000093,{"$f":"Sheet1!$B$13*A139^8+Sheet1!$B$14*A139^7+Sheet1!$B$15*A139^6+Sheet1!$B$16*A139^5+Sheet1!$B$17*A139^4+Sheet1!$B$18*A139^3+Sheet1!$B$19*A139^2+Sheet1!$B$20*A139+Sheet1!$B$21","v":-1.9160267335794625}]
[0.37000000000000094,{"$f":"Sheet1!$B$13*A140^8+Sheet1!$B$14*A140^7+Sheet1!$B$15*A140^6+Sheet1!$B$16*A140^5+Sheet1!$B$17*A140^4+Sheet1!$B$18*A140^3+Sheet1!$B$19*A140^2+Sheet1!$B$20*A140+Sheet1!$B$21","v":-1.8489997350355396}]
[0.38000000000000095,{"$f":"Sheet1!$B$13*A141^8+Sheet1!$B$14*A141^7+Sheet1!$B$15*A141^6+Sheet1!$B$16*A141^5+Sheet1!$B$17*A141^4+Sheet1!$B$18*A141^3+Sheet1!$B$19*A141^2+Sheet1!$B$20*A141+Sheet1!$B$21","v":-1.7814069362782146}]
[0.39000000000000096,{"$f":"Sheet1!$B$13*A142^8+Sheet1!$B$14*A142^7+Sheet1!$B$15*A142^6+Sheet1!$B$16*A142^5+Sheet1!$B$17*A142^4+Sheet1!$B$18*A142^3+Sheet1!$B$19*A142^2+Sheet1!$B$20*A142+Sheet1!$B$21","v":-1.7132394788096872}]
[0.40000000000000097,{"$f":"Sheet1!$B$13*A143^8+Sheet1!$B$14*A143^7+Sheet1!$B$15*A143^6+Sheet1!$B$16*A143^5+Sheet1!$B$17*A143^4+Sheet1!$B$18*A143^3+Sheet1!$B$19*A143^2+Sheet1!$B$20*A143+Sheet1!$B$21","v":-1.644487679999993}]
[0.41000000000000097,{"$f":"Sheet1!$B$13*A144^8+Sheet1!$B$14*A144^7+Sheet1!$B$15*A144^6+Sheet1!$B$16*A144^5+Sheet1!$B$17*A144^4+Sheet1!$B$18*A144^3+Sheet1!$B$19*A144^2+Sheet1!$B$20*A144+Sheet1!$B$21","v":-1.575140927087979}]
[0.42000000000000098,{"$f":"Sheet1!$B$13*A145^8+Sheet1!$B$14*A145^7+Sheet1!$B$15*A145^6+Sheet1!$B$16*A145^5+Sheet1!$B$17*A145^4+Sheet1!$B$18*A145^3+Sheet1!$B$19*A145^2+Sheet1!$B$20*A145+Sheet1!$B$21","v":-1.5051875634131897}]
[0.43000000000000099,{"$f":"Sheet1!$B$13*A146^8+Sheet1!$B$14*A146^7+Sheet1!$B$15*A146^6+Sheet1!$B$16*A146^5+Sheet1!$B$17*A146^4+Sheet1!$B$18*A146^3+Sheet1!$B$19*A146^2+Sheet1!$B$20*A146+Sheet1!$B$21","v":-1.4346147666105429}]
[0.440000000000001,{"$f":"Sheet1!$B$13*A147^8+Sheet1!$B$14*A147^7+Sheet1!$B$15*A147^6+Sheet1!$B$16*A147^5+Sheet1!$B$17*A147^4+Sheet1!$B$18*A147^3+Sheet1!$B$19*A147^2+Sheet1!$B$20*A147+Sheet1!$B$21","v":-1.3634084184915896}]
[0.45000000000000101,{"$f":"Sheet1!$B$13*A148^8+Sheet1!$B$14*A148^7+Sheet1!$B$15*A148^6+Sheet1!$B$16*A148^5+Sheet1!$B$17*A148^4+Sheet1!$B$18*A148^3+Sheet1!$B$19*A148^2+Sheet1!$B$20*A148+Sheet1!$B$21","v":-1.2915529663281178}]
[0.46000000000000102,{"$f":"Sheet1!$B$13*A149^8+Sheet1!$B$14*A149^7+Sheet1!$B$15*A149^6+Sheet1!$B$16*A149^5+Sheet1!$B$17*A149^4+Sheet1!$B$18*A149^3+Sheet1!$B$19*A149^2+Sheet1!$B$20*A149+Sheet1!$B$21","v":-1.2190312752457655}]
[0.47000000000000103,{"$f":"Sheet1!$B$13*A150^8+Sheet1!$B$14*A150^7+Sheet1!$B$15*A150^6+Sheet1!$B$16*A150^5+Sheet1!$B$17*A150^4+Sheet1!$B$18*A150^3+Sheet1!$B$19*A150^2+Sheet1!$B$20*A150+Sheet1!$B$21","v":-1.1458244714272703}]
[0.48000000000000104,{"$f":"Sheet1!$B$13*A151^8+Sheet1!$B$14*A151^7+Sheet1!$B$15*A151^6+Sheet1!$B$16*A151^5+Sheet1!$B$17*A151^4+Sheet1!$B$18*A151^3+Sheet1!$B$19*A151^2+Sheet1!$B$20*A151+Sheet1!$B$21","v":-1.071911775816901}]
[0.49000000000000105,{"$f":"Sheet1!$B$13*A152^8+Sheet1!$B$14*A152^7+Sheet1!$B$15*A152^6+Sheet1!$B$16*A152^5+Sheet1!$B$17*A152^4+Sheet1!$B$18*A152^3+Sheet1!$B$19*A152^2+Sheet1!$B$20*A152+Sheet1!$B$21","v":-0.99727032800956206}]
[0.500000000000001,{"$f":"Sheet1!$B$13*A153^8+Sheet1!$B$14*A153^7+Sheet1!$B$15*A153^6+Sheet1!$B$16*A153^5+Sheet1!$B$17*A153^4+Sheet1!$B$18*A153^3+Sheet1!$B$19*A153^2+Sheet1!$B$20*A153+Sheet1!$B$21","v":-0.92187499999999245}]
[0.51000000000000101,{"$f":"Sheet1!$B$13*A154^8+Sheet1!$B$14*A154^7+Sheet1!$B$15*A154^6+Sheet1!$B$16*A154^5+Sheet1!$B$17*A154^4+Sheet1!$B$18*A154^3+Sheet1!$B$19*A154^2+Sheet1!$B$20*A154+Sheet1!$B$21","v":-0.84569819945942193}]
[0.52000000000000102,{"$f":"Sheet1!$B$13*A155^8+Sheet1!$B$14*A155^7+Sheet1!$B$15*A155^6+Sheet1!$B$16*A155^5+Sheet1!$B$17*A155^4+Sheet1!$B$18*A155^3+Sheet1!$B$19*A155^2+Sheet1!$B$20*A155+Sheet1!$B$21","v":-0.76870966219898085}]
[0.53000000000000103,{"$f":"Sheet1!$B$13*A156^8+Sheet1!$B$14*A156^7+Sheet1!$B$15*A156^6+Sheet1!$B$16*A156^5+Sheet1!$B$17*A156^4+Sheet1!$B$18*A156^3+Sheet1!$B$19*A156^2+Sheet1!$B$20*A156+Sheet1!$B$21","v":-0.69087623347108984}]
[0.54000000000000103,{"$f":"Sheet1!$B$13*A157^8+Sheet1!$B$14*A157^7+Sheet1!$B$15*A157^6+Sheet1!$B$16*A157^5+Sheet1!$B$17*A157^4+Sheet1!$B$18*A157^3+Sheet1!$B$19*A157^2+Sheet1!$B$20*A157+Sheet1!$B$21","v":-0.61216163775200449}]
[0.55000000000000104,{"$f":"Sheet1!$B$13*A158^8+Sheet1!$B$14*A158^7+Sheet1!$B$15*A158^6+Sheet1!$B$16*A158^5+Sheet1!$B$17*A158^4+Sheet1!$B$18*A158^3+Sheet1!$B$19*A158^2+Sheet1!$B$20*A158+Sheet1!$B$21","v":-0.53252623664061627}]
[0.56000000000000105,{"$f":"Sheet1!$B$13*A159^8+Sheet1!$B$14*A159^7+Sheet1!$B$15*A159^6+Sheet1!$B$16*A159^5+Sheet1!$B$17*A159^4+Sheet1!$B$18*A159^3+Sheet1!$B$19*A159^2+Sheet1!$B$20*A159+Sheet1!$B$21","v":-0.45192677450054841}]
[0.57000000000000106,{"$f":"Sheet1!$B$13*A160^8+Sheet1!$B$14*A160^7+Sheet1!$B$15*A160^6+Sheet1!$B$16*A160^5+Sheet1!$B$17*A160^4+Sheet1!$B$18*A160^3+Sheet1!$B$19*A160^2+Sheet1!$B$20*A160+Sheet1!$B$21","v":-0.37031611146452104}]
[0.58000000000000107,{"$f":"Sheet1!$B$13*A161^8+Sheet1!$B$14*A161^7+Sheet1!$B$15*A161^6+Sheet1!$B$16*A161^5+Sheet1!$B$17*A161^4+Sheet1!$B$18*A161^3+Sheet1!$B$19*A161^2+Sheet1!$B$20*A161+Sheet1!$B$21","v":-0.2876429434119081}]
[0.59000000000000108,{"$f":"Sheet1!$B$13*A162^8+Sheet1!$B$14*A162^7+Sheet1!$B$15*A162^6+Sheet1!$B$16*A162^5+Sheet1!$B$17*A162^4+Sheet1!$B$18*A162^3+Sheet1!$B$19*A162^2+Sheet1!$B$20*A162+Sheet1!$B$21","v":-0.20385150852231648}]
[0.60000000000000109,{"$f":"Sheet1!$B$13*A163^8+Sheet1!$B$14*A163^7+Sheet1!$B$15*A163^6+Sheet1!$B$16*A163^5+Sheet1!$B$17*A163^4+Sheet1!$B$18*A163^3+Sheet1!$B$19*A163^2+Sheet1!$B$20*A163+Sheet1!$B$21","v":-0.11888127999999076}]
[0.6100000000000011,{"$f":"Sheet1!$B$13*A164^8+Sheet1!$B$14*A164^7+Sheet1!$B$15*A164^6+Sheet1!$B$16*A164^5+Sheet1!$B$17*A164^4+Sheet1!$B$18*A164^3+Sheet1!$B$19*A164^2+Sheet1!$B$20*A164+Sheet1!$B$21","v":-3.2666644555744195E-2}]
[0.62000000000000111,{"$f":"Sheet1!$B$13*A165^8+Sheet1!$B$14*A165^7+Sheet1!$B$15*A165^6+Sheet1!$B$16*A165^5+Sheet1!$B$17*A165^4+Sheet1!$B$18*A165^3+Sheet1!$B$19*A165^2+Sheet1!$B$20*A165+Sheet1!$B$21","v":5.4863433774908543E-2}]
[0.63000000000000111,{"$f":"Sheet1!$B$13*A166^8+Sheet1!$B$14*A166^7+Sheet1!$B$15*A166^6+Sheet1!$B$16*A166^5+Sheet1!$B$17*A166^4+Sheet1!$B$18*A166^3+Sheet1!$B$19*A166^2+Sheet1!$B$20*A166+Sheet1!$B$21","v":0.1437857649068448}]
[0.64000000000000112,{"$f":"Sheet1!$B$13*A167^8+Sheet1!$B$14*A167^7+Sheet1!$B$15*A167^6+Sheet1!$B$16*A167^5+Sheet1!$B$17*A167^4+Sheet1!$B$18*A167^3+Sheet1!$B$19*A167^2+Sheet1!$B$20*A167+Sheet1!$B$21","v":0.23418329951110195}]
[0.65000000000000113,{"$f":"Sheet1!$B$13*A168^8+Sheet1!$B$14*A168^7+Sheet1!$B$15*A168^6+Sheet1!$B$16*A168^5+Sheet1!$B$17*A168^4+Sheet1!$B$18*A168^3+Sheet1!$B$19*A168^2+Sheet1!$B$20*A168+Sheet1!$B$21","v":0.32614551179688611}]
[0.66000000000000114,{"$f":"Sheet1!$B$13*A169^8+Sheet1!$B$14*A169^7+Sheet1!$B$15*A169^6+Sheet1!$B$16*A169^5+Sheet1!$B$17*A169^4+Sheet1!$B$18*A169^3+Sheet1!$B$19*A169^2+Sheet1!$B$20*A169+Sheet1!$B$21","v":0.41976879872339001}]
[0.67000000000000115,{"$f":"Sheet1!$B$13*A170^8+Sheet1!$B$14*A170^7+Sheet1!$B$15*A170^6+Sheet1!$B$16*A170^5+Sheet1!$B$17*A170^4+Sheet1!$B$18*A170^3+Sheet1!$B$19*A170^2+Sheet1!$B$20*A170+Sheet1!$B$21","v":0.51515689610310922}]
[0.68000000000000116,{"$f":"Sheet1!$B$13*A171^8+Sheet1!$B$14*A171^7+Sheet1!$B$15*A171^6+Sheet1!$B$16*A171^5+Sheet1!$B$17*A171^4+Sheet1!$B$18*A171^3+Sheet1!$B$19*A171^2+Sheet1!$B$20*A171+Sheet1!$B$21","v":0.61242131206636685}]
[0.69000000000000117,{"$f":"Sheet1!$B$13*A172^8+Sheet1!$B$14*A172^7+Sheet1!$B$15*A172^6+Sheet1!$B$16*A172^5+Sheet1!$B$17*A172^4+Sheet1!$B$18*A172^3+Sheet1!$B$19*A172^2+Sheet1!$B$20*A172+Sheet1!$B$21","v":0.71168177836485036}]
[0.70000000000000118,{"$f":"Sheet1!$B$13*A173^8+Sheet1!$B$14*A173^7+Sheet1!$B$15*A173^6+Sheet1!$B$16*A173^5+Sheet1!$B$17*A173^4+Sheet1!$B$18*A173^3+Sheet1!$B$19*A173^2+Sheet1!$B$20*A173+Sheet1!$B$21","v":0.81306672000001257}]
[0.71000000000000119,{"$f":"Sheet1!$B$13*A174^8+Sheet1!$B$14*A174^7+Sheet1!$B$15*A174^6+Sheet1!$B$16*A174^5+Sheet1!$B$17*A174^4+Sheet1!$B$18*A174^3+Sheet1!$B$19*A174^2+Sheet1!$B$20*A174+Sheet1!$B$21","v":0.91671374367025482}]
[0.72000000000000119,{"$f":"Sheet1!$B$13*A175^8+Sheet1!$B$14*A175^7+Sheet1!$B$15*A175^6+Sheet1!$B$16*A175^5+Sheet1!$B$17*A175^4+Sheet1!$B$18*A175^3+Sheet1!$B$19*A175^2+Sheet1!$B$20*A175+Sheet1!$B$21","v":1.02277014553888}]
[0.7300000000000012,{"$f":"Sheet1!$B$13*A176^8+Sheet1!$B$14*A176^7+Sheet1!$B$15*A176^6+Sheet1!$B$16*A176^5+Sheet1!$B$17*A176^4+Sheet1!$B$18*A176^3+Sheet1!$B$19*A176^2+Sheet1!$B$20*A176+Sheet1!$B$21","v":1.131393438832859}]
[0.74000000000000121,{"$f":"Sheet1!$B$13*A177^8+Sheet1!$B$14*A177^7+Sheet1!$B$15*A177^6+Sheet1!$B$16*A177^5+Sheet1!$B$17*A177^4+Sheet1!$B$18*A177^3+Sheet1!$B$19*A177^2+Sheet1!$B$20*A177+Sheet1!$B$21","v":1.2427519017905286}]
[0.75000000000000122,{"$f":"Sheet1!$B$13*A178^8+Sheet1!$B$14*A178^7+Sheet1!$B$15*A178^6+Sheet1!$B$16*A178^5+Sheet1!$B$17*A178^4+Sheet1!$B$18*A178^3+Sheet1!$B$19*A178^2+Sheet1!$B$20*A178+Sheet1!$B$21","v":1.3570251464843892}]
[0.76000000000000123,{"$f":"Sheet1!$B$13*A179^8+Sheet1!$B$14*A179^7+Sheet1!$B$15*A179^6+Sheet1!$B$16*A179^5+Sheet1!$B$17*A179^4+Sheet1!$B$18*A179^3+Sheet1!$B$19*A179^2+Sheet1!$B$20*A179+Sheet1!$B$21","v":1.4744047090532497}]
[0.77000000000000124,{"$f":"Sheet1!$B$13*A180^8+Sheet1!$B$14*A180^7+Sheet1!$B$15*A180^6+Sheet1!$B$16*A180^5+Sheet1!$B$17*A180^4+Sheet1!$B$18*A180^3+Sheet1!$B$19*A180^2+Sheet1!$B$20*A180+Sheet1!$B$21","v":1.5950946618860211}]
[0.78000000000000125,{"$f":"Sheet1!$B$13*A181^8+Sheet1!$B$14*A181^7+Sheet1!$B$15*A181^6+Sheet1!$B$16*A181^5+Sheet1!$B$17*A181^4+Sheet1!$B$18*A181^3+Sheet1!$B$19*A181^2+Sheet1!$B$20*A181+Sheet1!$B$21","v":1.7193122483075225}]
[0.79000000000000126,{"$f":"Sheet1!$B$13*A182^8+Sheet1!$B$14*A182^7+Sheet1!$B$15*A182^6+Sheet1!$B$16*A182^5+Sheet1!$B$17*A182^4+Sheet1!$B$18*A182^3+Sheet1!$B$19*A182^2+Sheet1!$B$20*A182+Sheet1!$B$21","v":1.8472885403247385}]
[0.80000000000000127,{"$f":"Sheet1!$B$13*A183^8+Sheet1!$B$14*A183^7+Sheet1!$B$15*A183^6+Sheet1!$B$16*A183^5+Sheet1!$B$17*A183^4+Sheet1!$B$18*A183^3+Sheet1!$B$19*A183^2+Sheet1!$B$20*A183+Sheet1!$B$21","v":1.9792691200000165}]
[0.81000000000000127,{"$f":"Sheet1!$B$13*A184^8+Sheet1!$B$14*A184^7+Sheet1!$B$15*A184^6+Sheet1!$B$16*A184^5+Sheet1!$B$17*A184^4+Sheet1!$B$18*A184^3+Sheet1!$B$19*A184^2+Sheet1!$B$20*A184+Sheet1!$B$21","v":2.1155147850257752}]
[0.82000000000000128,{"$f":"Sheet1!$B$13*A185^8+Sheet1!$B$14*A185^7+Sheet1!$B$15*A185^6+Sheet1!$B$16*A185^5+Sheet1!$B$17*A185^4+Sheet1!$B$18*A185^3+Sheet1!$B$19*A185^2+Sheet1!$B$20*A185+Sheet1!$B$21","v":2.256302279083334}]
[0.83000000000000129,{"$f":"Sheet1!$B$13*A186^8+Sheet1!$B$14*A186^7+Sheet1!$B$15*A186^6+Sheet1!$B$16*A186^5+Sheet1!$B$17*A186^4+Sheet1!$B$18*A186^3+Sheet1!$B$19*A186^2+Sheet1!$B$20*A186+Sheet1!$B$21","v":2.4019250475765581}]
[0.8400000000000013,{"$f":"Sheet1!$B$13*A187^8+Sheet1!$B$14*A187^7+Sheet1!$B$15*A187^6+Sheet1!$B$16*A187^5+Sheet1!$B$17*A187^4+Sheet1!$B$18*A187^3+Sheet1!$B$19*A187^2+Sheet1!$B$20*A187+Sheet1!$B$21","v":2.5526940193390786}]
[0.85000000000000131,{"$f":"Sheet1!$B$13*A188^8+Sheet1!$B$14*A188^7+Sheet1!$B$15*A188^6+Sheet1!$B$16*A188^5+Sheet1!$B$17*A188^4+Sheet1!$B$18*A188^3+Sheet1!$B$19*A188^2+Sheet1!$B$20*A188+Sheet1!$B$21","v":2.7089384149218958}]
[0.86000000000000132,{"$f":"Sheet1!$B$13*A189^8+Sheet1!$B$14*A189^7+Sheet1!$B$15*A189^6+Sheet1!$B$16*A189^5+Sheet1!$B$17*A189^4+Sheet1!$B$18*A189^3+Sheet1!$B$19*A189^2+Sheet1!$B$20*A189+Sheet1!$B$21","v":2.8710065820762338}]
[0.87000000000000133,{"$f":"Sheet1!$B$13*A190^8+Sheet1!$B$14*A190^7+Sheet1!$B$15*A190^6+Sheet1!$B$16*A190^5+Sheet1!$B$17*A190^4+Sheet1!$B$18*A190^3+Sheet1!$B$19*A190^2+Sheet1!$B$20*A190+Sheet1!$B$21","v":3.0392668590546172}]
[0.88000000000000134,{"$f":"Sheet1!$B$13*A191^8+Sheet1!$B$14*A191^7+Sheet1!$B$15*A191^6+Sheet1!$B$16*A191^5+Sheet1!$B$17*A191^4+Sheet1!$B$18*A191^3+Sheet1!$B$19*A191^2+Sheet1!$B$20*A191+Sheet1!$B$21","v":3.2141084663611625}]
[0.89000000000000135,{"$f":"Sheet1!$B$13*A192^8+Sheet1!$B$14*A192^7+Sheet1!$B$15*A192^6+Sheet1!$B$16*A192^5+Sheet1!$B$17*A192^4+Sheet1!$B$18*A192^3+Sheet1!$B$19*A192^2+Sheet1!$B$20*A192+Sheet1!$B$21","v":3.3959424275901497}]
[0.90000000000000135,{"$f":"Sheet1!$B$13*A193^8+Sheet1!$B$14*A193^7+Sheet1!$B$15*A193^6+Sheet1!$B$16*A193^5+Sheet1!$B$17*A193^4+Sheet1!$B$18*A193^3+Sheet1!$B$19*A193^2+Sheet1!$B$20*A193+Sheet1!$B$21","v":3.5852025200000259}]
[0.91000000000000136,{"$f":"Sheet1!$B$13*A194^8+Sheet1!$B$14*A194^7+Sheet1!$B$15*A194^6+Sheet1!$B$16*A194^5+Sheet1!$B$17*A194^4+Sheet1!$B$18*A194^3+Sheet1!$B$19*A194^2+Sheet1!$B$20*A194+Sheet1!$B$21","v":3.7823462554780214}]
[0.92000000000000137,{"$f":"Sheet1!$B$13*A195^8+Sheet1!$B$14*A195^7+Sheet1!$B$15*A195^6+Sheet1!$B$16*A195^5+Sheet1!$B$17*A195^4+Sheet1!$B$18*A195^3+Sheet1!$B$19*A195^2+Sheet1!$B$20*A195+Sheet1!$B$21","v":3.987855892558672}]
[{"$f":"A195+dx","v":0.93000000000000138},{"$f":"Sheet1!$B$13*A196^8+Sheet1!$B$14*A196^7+Sheet1!$B$15*A196^6+Sheet1!$B$16*A196^5+Sheet1!$B$17*A196^4+Sheet1!$B$18*A196^3+Sheet1!$B$19*A196^2+Sheet1!$B$20*A196+Sheet1!$B$21","v":4.2022394801675418}]
[0.94000000000000139,{"$f":"Sheet1!$B$13*A197^8+Sheet1!$B$14*A197^7+Sheet1!$B$15*A197^6+Sheet1!$B$16*A197^5+Sheet1!$B$17*A197^4+Sheet1!$B$18*A197^3+Sheet1!$B$19*A197^2+Sheet1!$B$20*A197+Sheet1!$B$21","v":4.4260319337695542}]
[0.9500000000000014,{"$f":"Sheet1!$B$13*A198^8+Sheet1!$B$14*A198^7+Sheet1!$B$15*A198^6+Sheet1!$B$16*A198^5+Sheet1!$B$17*A198^4+Sheet1!$B$18*A198^3+Sheet1!$B$19*A198^2+Sheet1!$B$20*A198+Sheet1!$B$21","v":4.6597961446094089}]
[0.96000000000000141,{"$f":"Sheet1!$B$13*A199^8+Sheet1!$B$14*A199^7+Sheet1!$B$15*A199^6+Sheet1!$B$16*A199^5+Sheet1!$B$17*A199^4+Sheet1!$B$18*A199^3+Sheet1!$B$19*A199^2+Sheet1!$B$20*A199+Sheet1!$B$21","v":4.9041241227395425}]
[0.97000000000000142,{"$f":"Sheet1!$B$13*A200^8+Sheet1!$B$14*A200^7+Sheet1!$B$15*A200^6+Sheet1!$B$16*A200^5+Sheet1!$B$17*A200^4+Sheet1!$B$18*A200^3+Sheet1!$B$19*A200^2+Sheet1!$B$20*A200+Sheet1!$B$21","v":5.1596381745392996}]
[0.98000000000000143,{"$f":"Sheet1!$B$13*A201^8+Sheet1!$B$14*A201^7+Sheet1!$B$15*A201^6+Sheet1!$B$16*A201^5+Sheet1!$B$17*A201^4+Sheet1!$B$18*A201^3+Sheet1!$B$19*A201^2+Sheet1!$B$20*A201+Sheet1!$B$21","v":5.4269921154368905}]
[0.99000000000000143,{"$f":"Sheet1!$B$13*A202^8+Sheet1!$B$14*A202^7+Sheet1!$B$15*A202^6+Sheet1!$B$16*A202^5+Sheet1!$B$17*A202^4+Sheet1!$B$18*A202^3+Sheet1!$B$19*A202^2+Sheet1!$B$20*A202+Sheet1!$B$21","v":5.7068725185538902}]
[1.0000000000000013,{"$f":"Sheet1!$B$13*A203^8+Sheet1!$B$14*A203^7+Sheet1!$B$15*A203^6+Sheet1!$B$16*A203^5+Sheet1!$B$17*A203^4+Sheet1!$B$18*A203^3+Sheet1!$B$19*A203^2+Sheet1!$B$20*A203+Sheet1!$B$21","v":6.0000000000000391}]
[1.0100000000000013,{"$f":"Sheet1!$B$13*A204^8+Sheet1!$B$14*A204^7+Sheet1!$B$15*A204^6+Sheet1!$B$16*A204^5+Sheet1!$B$17*A204^4+Sheet1!$B$18*A204^3+Sheet1!$B$19*A204^2+Sheet1!$B$20*A204+Sheet1!$B$21","v":6.3071305415541907}]

{"sheet":"Sheet3","index":2,"n_rows":0,"n_cols":0,"rows_kept":0,"cut":false,"hidden":false,"merged":[]}