{"text_format":"1","workbook":"xlsx","n_sheets":3,"sheets":["Sheet1","Sheet2","Sheet3"],"not_rendered":{"charts":1,"images":0,"macros":1,"external_links":0,"defined_names":4,"comments":1,"pivot_tables":0},"unopened":[],"bounds":{"document_bytes":16777216,"sheet_cells":100000,"rows_first":2000,"rows_last":500,"rows_between":2000,"halvings":0,"cell_chars":16384,"cell_head_chars":4096},"cells_cut":0,"cells_raw":0,"read":"whole","date_system":"1900"}

{"sheet":"Sheet1","index":0,"n_rows":34,"n_cols":13,"rows_kept":34,"cut":false,"hidden":false,"merged":[]}
[null,"    The Graph of a Function"]
[]
[null,"This graphing utility produces the graph "]
[null,null,"   of any desired function"]
[null,null,null,"y = f(x)"]
[null,"   on any interval from x = a  to x = b."]
[]
["   Enter the function in terms of x:   f(x) =",null,null,null,null,"x^4-3*x^3+5*x-22"]
[]
[]
["Now enter the interval for x:  "]
[null,null,"xMin =",-3]
[null,null,"xMax =",3]
[]
[]
[]
[]
[]
[null,null,null,null,null,null,null,null,null,"The graph of the function y =",null,null,{"$f":"F8","v":"x^4-3*x^3+5*x-22"}]
["Click each item below for suggestions and investigations"]
["   Item 1"]
["   Item 2"]
["   Item 3"]
["   Item 4"]
["   Item 5"]
[]
[]
[]
[]
["Created by:  Sheldon P. Gordon"]
["                     Farmingdale StateCollege"]
["Development of this module was supported by the "]
["NSF's Division of Undergraduate Education  "]
["under grants DUE-0310123 and DUE-0442160."]

{"sheet":"Sheet2","index":1,"n_rows":203,"n_cols":4,"rows_kept":203,"cut":false,"hidden":false,"merged":[]}
[null,null,"x","y = f(x)"]
[null,null,null,{"$f":"Sheet1!#REF!","v":{"$error":"#REF!"}}]
[null,null,{"$f":"Sheet1!D12","v":-3},{"$f":"x^4-3*x^3+5*x-22","v":125}]
[null,null,{"$f":"C3+Sheet2!B$12","v":-2.97},119.55249581000007]
[null,null,{"$f":"C4+Sheet2!B$12","v":-2.9400000000000004},114.2483729600001]
[null,null,{"$f":"C5+Sheet2!B$12","v":-2.9100000000000006},109.08523061000008]
[null,null,{"$f":"C6+Sheet2!B$12","v":-2.8800000000000008},104.06068736000012]
[null,null,{"$f":"C7+Sheet2!B$12","v":-2.850000000000001},99.172381250000171]
[null,null,{"$f":"C8+Sheet2!B$12","v":-2.8200000000000012},94.41796976000019]
[null,null,{"$f":"C9+Sheet2!B$12","v":-2.7900000000000014},89.795129810000205]
[null,null,{"$f":"C10+Sheet2!B$12","v":-2.7600000000000016},85.301557760000222]
["delta x = ",{"$f":"(xMax-xMin)/200","v":0.03},{"$f":"C11+Sheet2!B$12","v":-2.7300000000000018},80.934969410000249]
[null,null,{"$f":"C12+Sheet2!B$12","v":-2.700000000000002},76.693100000000271]
[null,null,{"$f":"C13+Sheet2!B$12","v":-2.6700000000000021},72.573704210000287]
[null,null,{"$f":"C14+Sheet2!B$12","v":-2.6400000000000023},68.574556160000299]
[null,null,{"$f":"C15+Sheet2!B$12","v":-2.6100000000000025},64.693449410000341]
[null,null,{"$f":"C16+Sheet2!B$12","v":-2.5800000000000027},60.928196960000349]
[null,null,{"$f":"C17+Sheet2!B$12","v":-2.5500000000000029},57.276631250000335]
[null,null,{"$f":"C18+Sheet2!B$12","v":-2.5200000000000031},53.736604160000354]
[null,null,{"$f":"C19+Sheet2!B$12","v":-2.4900000000000033},50.305987010000379]
[null,null,{"$f":"C20+Sheet2!B$12","v":-2.4600000000000035},46.9826705600004]
[null,null,{"$f":"C21+Sheet2!B$12","v":-2.4300000000000037},43.764565010000396]
[null,null,{"$f":"C22+Sheet2!B$12","v":-2.4000000000000039},40.649600000000397]
[null,null,{"$f":"C23+Sheet2!B$12","v":-2.3700000000000041},37.635724610000409]
[null,null,{"$f":"C24+Sheet2!B$12","v":-2.3400000000000043},34.72090736000041]
[null,null,{"$f":"C25+Sheet2!B$12","v":-2.3100000000000045},31.903136210000412]
[null,null,{"$f":"C26+Sheet2!B$12","v":-2.2800000000000047},29.180418560000433]
[null,null,{"$f":"C27+Sheet2!B$12","v":-2.2500000000000049},26.550781250000426]
[null,null,{"$f":"C28+Sheet2!B$12","v":-2.2200000000000051},24.012270560000431]
[null,null,{"$f":"C29+Sheet2!B$12","v":-2.1900000000000053},21.562952210000425]
[null,null,{"$f":"C30+Sheet2!B$12","v":-2.1600000000000055},19.200911360000418]
[null,null,{"$f":"C31+Sheet2!B$12","v":-2.1300000000000057},16.924252610000423]
[null,null,{"$f":"C32+Sheet2!B$12","v":-2.1000000000000059},14.731100000000424]
[null,null,{"$f":"C33+Sheet2!B$12","v":-2.0700000000000061},12.619597010000419]
[null,null,{"$f":"C34+Sheet2!B$12","v":-2.0400000000000063},10.58790656000042]
[null,null,{"$f":"C35+Sheet2!B$12","v":-2.0100000000000064},8.6342110100004064]
[null,null,{"$f":"C36+Sheet2!B$12","v":-1.9800000000000064},6.7567121600003901]
[null,null,{"$f":"C37+Sheet2!B$12","v":-1.9500000000000064},4.953631250000381]
[null,null,{"$f":"C38+Sheet2!B$12","v":-1.9200000000000064},3.2232089600003562]
[null,null,{"$f":"C39+Sheet2!B$12","v":-1.8900000000000063},1.5637054100003382]
[null,null,{"$f":"C40+Sheet2!B$12","v":-1.8600000000000063},-2.6599839999676078E-2]
[null,null,{"$f":"C41+Sheet2!B$12","v":-1.8300000000000063},-1.5494077899996874]
[null,null,{"$f":"C42+Sheet2!B$12","v":-1.8000000000000063},-3.0063999999997044]
[null,null,{"$f":"C43+Sheet2!B$12","v":-1.7700000000000062},-4.3992385899997188]
[null,null,{"$f":"C44+Sheet2!B$12","v":-1.7400000000000062},-5.729566239999734]
[null,null,{"$f":"C45+Sheet2!B$12","v":-1.7100000000000062},-6.9990061899997453]
[null,null,{"$f":"C46+Sheet2!B$12","v":-1.6800000000000062},-8.2091622399997561]
[null,null,{"$f":"C47+Sheet2!B$12","v":-1.6500000000000061},-9.3616187499997725]
[null,null,{"$f":"C48+Sheet2!B$12","v":-1.6200000000000061},-10.457940639999784]
[null,null,{"$f":"C49+Sheet2!B$12","v":-1.5900000000000061},-11.499673389999796]
[null,null,{"$f":"C50+Sheet2!B$12","v":-1.560000000000006},-12.488343039999805]
[null,null,{"$f":"C51+Sheet2!B$12","v":-1.530000000000006},-13.425456189999817]
[null,null,{"$f":"C52+Sheet2!B$12","v":-1.500000000000006},-14.312499999999829]
[null,null,{"$f":"C53+Sheet2!B$12","v":-1.470000000000006},-15.150942189999839]
[null,null,{"$f":"C54+Sheet2!B$12","v":-1.4400000000000059},-15.942231039999848]
[null,null,{"$f":"C55+Sheet2!B$12","v":-1.4100000000000059},-16.687795389999856]
[null,null,{"$f":"C56+Sheet2!B$12","v":-1.3800000000000059},-17.389044639999867]
[null,null,{"$f":"C57+Sheet2!B$12","v":-1.3500000000000059},-18.047368749999876]
[null,null,{"$f":"C58+Sheet2!B$12","v":-1.3200000000000058},-18.664138239999883]
[null,null,{"$f":"C59+Sheet2!B$12","v":-1.2900000000000058},-19.240704189999889]
[null,null,{"$f":"C60+Sheet2!B$12","v":-1.2600000000000058},-19.778398239999902]
[null,null,{"$f":"C61+Sheet2!B$12","v":-1.2300000000000058},-20.278532589999905]
[null,null,{"$f":"C62+Sheet2!B$12","v":-1.2000000000000057},-20.742399999999915]
[null,null,{"$f":"C63+Sheet2!B$12","v":-1.1700000000000057},-21.171273789999923]
[null,null,{"$f":"C64+Sheet2!B$12","v":-1.1400000000000057},-21.566407839999929]
[null,null,{"$f":"C65+Sheet2!B$12","v":-1.1100000000000056},-21.929036589999935]
[null,null,{"$f":"C66+Sheet2!B$12","v":-1.0800000000000056},{"$f":"x^4-3*x^3+5*x-22","v":-22.260375039999943}]
[null,null,{"$f":"C67+Sheet2!B$12","v":-1.0500000000000056},-22.561618749999948]
[null,null,{"$f":"C68+Sheet2!B$12","v":-1.0200000000000056},-22.833943839999954]
[null,null,{"$f":"C69+Sheet2!B$12","v":-0.99000000000000554},-23.078506989999958]
[null,null,{"$f":"C70+Sheet2!B$12","v":-0.96000000000000552},-23.296445439999964]
[null,null,{"$f":"C71+Sheet2!B$12","v":-0.93000000000000549},-23.488876989999966]
[null,null,{"$f":"C72+Sheet2!B$12","v":-0.90000000000000546},-23.656899999999972]
[null,null,{"$f":"C73+Sheet2!B$12","v":-0.87000000000000544},-23.801593389999976]
[null,null,{"$f":"C74+Sheet2!B$12","v":-0.84000000000000541},-23.92401663999998]
[null,null,{"$f":"C75+Sheet2!B$12","v":-0.81000000000000538},-24.025209789999984]
[null,null,{"$f":"C76+Sheet2!B$12","v":-0.78000000000000536},-24.106193439999988]
[null,null,{"$f":"C77+Sheet2!B$12","v":-0.75000000000000533},-24.167968749999989]
[null,null,{"$f":"C78+Sheet2!B$12","v":-0.7200000000000053},-24.211517439999994]
[null,null,{"$f":"C79+Sheet2!B$12","v":-0.69000000000000528},-24.237801789999995]
[null,null,{"$f":"C80+Sheet2!B$12","v":-0.66000000000000525},-24.24776464]
[null,null,{"$f":"C81+Sheet2!B$12","v":-0.63000000000000522},-24.242329390000002]
[null,null,{"$f":"C82+Sheet2!B$12","v":-0.6000000000000052},-24.222400000000004]
[null,null,{"$f":"C83+Sheet2!B$12","v":-0.57000000000000517},-24.188860990000006]
[null,null,{"$f":"C84+Sheet2!B$12","v":-0.54000000000000514},-24.142577440000011]
[null,null,{"$f":"C85+Sheet2!B$12","v":-0.51000000000000512},-24.08439499000001]
[null,null,{"$f":"C86+Sheet2!B$12","v":-0.48000000000000509},-24.01513984000001]
[null,null,{"$f":"C87+Sheet2!B$12","v":-0.45000000000000506},-23.935618750000014]
[null,null,{"$f":"C88+Sheet2!B$12","v":-0.42000000000000504},-23.846619040000014]
[null,null,{"$f":"C89+Sheet2!B$12","v":-0.39000000000000501},-23.748908590000017]
[null,null,{"$f":"C90+Sheet2!B$12","v":-0.36000000000000498},-23.643235840000017]
[null,null,{"$f":"C91+Sheet2!B$12","v":-0.33000000000000496},-23.530329790000017]
[null,null,{"$f":"C92+Sheet2!B$12","v":-0.30000000000000493},-23.410900000000019]
[null,null,{"$f":"C93+Sheet2!B$12","v":-0.2700000000000049},-23.285636590000021]
[null,null,{"$f":"C94+Sheet2!B$12","v":-0.2400000000000049},-23.15521024000002]
[null,null,{"$f":"C95+Sheet2!B$12","v":-0.2100000000000049},-23.020272190000021]
[null,null,{"$f":"C96+Sheet2!B$12","v":-0.18000000000000491},-22.881454240000021]
[null,null,{"$f":"C97+Sheet2!B$12","v":-0.15000000000000491},-22.739368750000022]
[null,null,{"$f":"C98+Sheet2!B$12","v":-0.12000000000000491},-22.594608640000025]
[null,null,{"$f":"C99+Sheet2!B$12","v":-9.0000000000004909E-2},-22.447747390000025]
[null,null,{"$f":"C100+Sheet2!B$12","v":-6.0000000000004911E-2},-22.299339040000024]
[null,null,{"$f":"C101+Sheet2!B$12","v":-3.0000000000004912E-2},-22.149918190000026]
[null,null,{"$f":"C102+Sheet2!B$12","v":-4.9127368839663177E-15},-22.000000000000025]
[null,null,{"$f":"C103+Sheet2!B$12","v":2.9999999999995086E-2},-21.850080190000025]
[null,null,{"$f":"C104+Sheet2!B$12","v":5.9999999999995085E-2},-21.700635040000023]
[null,null,{"$f":"C105+Sheet2!B$12","v":8.9999999999995084E-2},-21.552121390000025]
[null,null,{"$f":"C106+Sheet2!B$12","v":0.11999999999999508},-21.404976640000022]
[null,null,{"$f":"C107+Sheet2!B$12","v":0.14999999999999508},-21.259618750000023]
[null,null,{"$f":"C108+Sheet2!B$12","v":0.17999999999999508},-21.116446240000023]
[null,null,{"$f":"C109+Sheet2!B$12","v":0.20999999999999508},-20.975838190000022]
[null,null,{"$f":"C110+Sheet2!B$12","v":0.23999999999999508},-20.838154240000023]
[null,null,{"$f":"C111+Sheet2!B$12","v":0.26999999999999508},-20.703734590000021]
[null,null,{"$f":"C112+Sheet2!B$12","v":0.29999999999999505},-20.572900000000022]
[null,null,{"$f":"C113+Sheet2!B$12","v":0.32999999999999508},-20.44595179000002]
[null,null,{"$f":"C114+Sheet2!B$12","v":0.3599999999999951},-20.323171840000018]
[null,null,{"$f":"C115+Sheet2!B$12","v":0.38999999999999513},-20.20482259000002]
[null,null,{"$f":"C116+Sheet2!B$12","v":0.41999999999999515},-20.091147040000017]
[null,null,{"$f":"C117+Sheet2!B$12","v":0.44999999999999518},-19.982368750000017]
[null,null,{"$f":"C118+Sheet2!B$12","v":0.47999999999999521},-19.878691840000016]
[null,null,{"$f":"C119+Sheet2!B$12","v":0.50999999999999523},-19.780300990000015]
[null,null,{"$f":"C120+Sheet2!B$12","v":0.53999999999999526},-19.687361440000014]
[null,null,{"$f":"C121+Sheet2!B$12","v":0.56999999999999529},-19.600018990000013]
[null,null,{"$f":"C122+Sheet2!B$12","v":0.59999999999999531},-19.518400000000014]
[null,null,{"$f":"C123+Sheet2!B$12","v":0.62999999999999534},-19.44261139000001]
[null,null,{"$f":"C124+Sheet2!B$12","v":0.65999999999999537},-19.372740640000011]
[null,null,{"$f":"C125+Sheet2!B$12","v":0.68999999999999539},-19.30885579000001]
[null,null,{"$f":"C126+Sheet2!B$12","v":0.71999999999999542},-19.251005440000007]
[null,null,{"$f":"C127+Sheet2!B$12","v":0.74999999999999545},-19.199218750000007]
[null,null,{"$f":"C128+Sheet2!B$12","v":0.77999999999999547},-19.153505440000007]
[null,null,{"$f":"C129+Sheet2!B$12","v":0.8099999999999955},-19.113855790000006]
[null,null,{"$f":"C130+Sheet2!B$12","v":0.83999999999999553},{"$f":"x^4-3*x^3+5*x-22","v":-19.080240640000003}]
[null,null,{"$f":"C131+Sheet2!B$12","v":0.86999999999999555},-19.052611390000003]
[null,null,{"$f":"C132+Sheet2!B$12","v":0.89999999999999558},-19.030900000000003]
[null,null,{"$f":"C133+Sheet2!B$12","v":0.92999999999999561},-19.015018990000002]
[null,null,{"$f":"C134+Sheet2!B$12","v":0.95999999999999563},-19.004861439999999]
[null,null,{"$f":"C135+Sheet2!B$12","v":0.98999999999999566},-19.00030099]
[null,null,{"$f":"C136+Sheet2!B$12","v":1.0199999999999956},-19.001191839999997]
[null,null,{"$f":"C137+Sheet2!B$12","v":1.0499999999999956},-19.007368749999998]
[null,null,{"$f":"C138+Sheet2!B$12","v":1.0799999999999956},-19.018647039999998]
[null,null,{"$f":"C139+Sheet2!B$12","v":1.1099999999999957},-19.034822589999997]
[null,null,{"$f":"C140+Sheet2!B$12","v":1.1399999999999957},-19.055671839999995]
[null,null,{"$f":"C141+Sheet2!B$12","v":1.1699999999999957},-19.080951789999997]
[null,null,{"$f":"C142+Sheet2!B$12","v":1.1999999999999957},-19.110399999999995]
[null,null,{"$f":"C143+Sheet2!B$12","v":1.2299999999999958},-19.143734589999994]
[null,null,{"$f":"C144+Sheet2!B$12","v":1.2599999999999958},-19.180654239999996]
[null,null,{"$f":"C145+Sheet2!B$12","v":1.2899999999999958},-19.220838189999995]
[null,null,{"$f":"C146+Sheet2!B$12","v":1.3199999999999958},-19.263946239999996]
[null,null,{"$f":"C147+Sheet2!B$12","v":1.3499999999999959},-19.309618749999991]
[null,null,{"$f":"C148+Sheet2!B$12","v":1.3799999999999959},-19.357476639999994]
[null,null,{"$f":"C149+Sheet2!B$12","v":1.4099999999999959},-19.407121389999993]
[null,null,{"$f":"C150+Sheet2!B$12","v":1.4399999999999959},-19.458135039999995]
[null,null,{"$f":"C151+Sheet2!B$12","v":1.469999999999996},-19.510080189999993]
[null,null,{"$f":"C152+Sheet2!B$12","v":1.499999999999996},-19.562499999999993]
[null,null,{"$f":"C153+Sheet2!B$12","v":1.529999999999996},-19.614918189999994]
[null,null,{"$f":"C154+Sheet2!B$12","v":1.5599999999999961},-19.666839039999992]
[null,null,{"$f":"C155+Sheet2!B$12","v":1.5899999999999961},-19.717747389999992]
[null,null,{"$f":"C156+Sheet2!B$12","v":1.6199999999999961},-19.767108639999996]
[null,null,{"$f":"C157+Sheet2!B$12","v":1.6499999999999961},-19.814368749999993]
[null,null,{"$f":"C158+Sheet2!B$12","v":1.6799999999999962},-19.858954239999992]
[null,null,{"$f":"C159+Sheet2!B$12","v":1.7099999999999962},-19.900272189999995]
[null,null,{"$f":"C160+Sheet2!B$12","v":1.7399999999999962},-19.937710239999998]
[null,null,{"$f":"C161+Sheet2!B$12","v":1.7699999999999962},-19.970636589999998]
[null,null,{"$f":"C162+Sheet2!B$12","v":1.7999999999999963},-19.998399999999997]
[null,null,{"$f":"C163+Sheet2!B$12","v":1.8299999999999963},-20.020329789999998]
[null,null,{"$f":"C164+Sheet2!B$12","v":1.8599999999999963},-20.035735840000001]
[null,null,{"$f":"C165+Sheet2!B$12","v":1.8899999999999963},-20.043908590000001]
[null,null,{"$f":"C166+Sheet2!B$12","v":1.9199999999999964},-20.044119039999998]
[null,null,{"$f":"C167+Sheet2!B$12","v":1.9499999999999964},-20.035618750000005]
[null,null,{"$f":"C168+Sheet2!B$12","v":1.9799999999999964},-20.017639840000005]
[null,null,{"$f":"C169+Sheet2!B$12","v":2.0099999999999962},-19.989394990000008]
[null,null,{"$f":"C170+Sheet2!B$12","v":2.039999999999996},-19.950077440000008]
[null,null,{"$f":"C171+Sheet2!B$12","v":2.0699999999999958},-19.898860990000006]
[null,null,{"$f":"C172+Sheet2!B$12","v":2.0999999999999956},-19.834900000000012]
[null,null,{"$f":"C173+Sheet2!B$12","v":2.1299999999999955},-19.757329390000017]
[null,null,{"$f":"C174+Sheet2!B$12","v":2.1599999999999953},-19.665264640000014]
[null,null,{"$f":"C175+Sheet2!B$12","v":2.1899999999999951},-19.557801790000021]
[null,null,{"$f":"C176+Sheet2!B$12","v":2.2199999999999949},-19.434017440000027]
[null,null,{"$f":"C177+Sheet2!B$12","v":2.2499999999999947},-19.292968750000028]
[null,null,{"$f":"C178+Sheet2!B$12","v":2.2799999999999945},-19.13369344000003]
[null,null,{"$f":"C179+Sheet2!B$12","v":2.3099999999999943},-18.955209790000037]
[null,null,{"$f":"C180+Sheet2!B$12","v":2.3399999999999941},-18.75651664000004]
[null,null,{"$f":"C181+Sheet2!B$12","v":2.3699999999999939},-18.53659339000005]
[null,null,{"$f":"C182+Sheet2!B$12","v":2.3999999999999937},-18.294400000000056]
[null,null,{"$f":"C183+Sheet2!B$12","v":2.4299999999999935},-18.028876990000061]
[null,null,{"$f":"C184+Sheet2!B$12","v":2.4599999999999933},-17.738945440000066]
[null,null,{"$f":"C185+Sheet2!B$12","v":2.4899999999999931},-17.423506990000078]
[null,null,{"$f":"C186+Sheet2!B$12","v":2.5199999999999929},-17.081443840000091]
[null,null,{"$f":"C187+Sheet2!B$12","v":2.5499999999999927},-16.711618750000092]
[null,null,{"$f":"C188+Sheet2!B$12","v":2.5799999999999925},-16.312875040000101]
[null,null,{"$f":"C189+Sheet2!B$12","v":2.6099999999999923},-15.884036590000115]
[null,null,{"$f":"C190+Sheet2!B$12","v":2.6399999999999921},-15.423907840000126]
[null,null,{"$f":"C191+Sheet2!B$12","v":2.6699999999999919},-14.931273790000141]
[null,null,{"$f":"C192+Sheet2!B$12","v":2.6999999999999917},-14.404900000000138]
[null,null,{"$f":"C193+Sheet2!B$12","v":2.7299999999999915},-13.843532590000171]
[null,null,{"$f":"C194+Sheet2!B$12","v":2.7599999999999913},{"$f":"x^4-3*x^3+5*x-22","v":-13.245898240000178}]
[null,null,{"$f":"C195+Sheet2!B$12","v":2.7899999999999912},-12.610704190000188]
[null,null,{"$f":"C196+Sheet2!B$12","v":2.819999999999991},-11.93663824000021]
[null,null,{"$f":"C197+Sheet2!B$12","v":2.8499999999999908},-11.222368750000232]
[null,null,{"$f":"C198+Sheet2!B$12","v":2.8799999999999906},-10.466544640000247]
[null,null,{"$f":"C199+Sheet2!B$12","v":2.9099999999999904},-9.66779539000024]
[null,null,{"$f":"C200+Sheet2!B$12","v":2.9399999999999902},-8.8247310400002963]
[null,null,{"$f":"C201+Sheet2!B$12","v":2.96999999999999},-7.9359421900002918]
[null,null,{"$f":"C202+Sheet2!B$12","v":2.9999999999999898},-7.0000000000003073]

{"sheet":"Sheet3","index":2,"n_rows":0,"n_cols":0,"rows_kept":0,"cut":false,"hidden":false,"merged":[]}